BEGIN:VCALENDAR
VERSION:2.0
PRODID:-//Crossroads Baptist Church of Elizabethtown - ECPv6.15.16.1//NONSGML v1.0//EN
CALSCALE:GREGORIAN
METHOD:PUBLISH
X-WR-CALNAME:Crossroads Baptist Church of Elizabethtown
X-ORIGINAL-URL:https://crossroadsetown.com
X-WR-CALDESC:Events for Crossroads Baptist Church of Elizabethtown
REFRESH-INTERVAL;VALUE=DURATION:PT1H
X-Robots-Tag:noindex
X-PUBLISHED-TTL:PT1H
BEGIN:VTIMEZONE
TZID:America/New_York
BEGIN:DAYLIGHT
TZOFFSETFROM:-0500
TZOFFSETTO:-0400
TZNAME:EDT
DTSTART:20230312T070000
END:DAYLIGHT
BEGIN:STANDARD
TZOFFSETFROM:-0400
TZOFFSETTO:-0500
TZNAME:EST
DTSTART:20231105T060000
END:STANDARD
BEGIN:DAYLIGHT
TZOFFSETFROM:-0500
TZOFFSETTO:-0400
TZNAME:EDT
DTSTART:20240310T070000
END:DAYLIGHT
BEGIN:STANDARD
TZOFFSETFROM:-0400
TZOFFSETTO:-0500
TZNAME:EST
DTSTART:20241103T060000
END:STANDARD
BEGIN:DAYLIGHT
TZOFFSETFROM:-0500
TZOFFSETTO:-0400
TZNAME:EDT
DTSTART:20250309T070000
END:DAYLIGHT
BEGIN:STANDARD
TZOFFSETFROM:-0400
TZOFFSETTO:-0500
TZNAME:EST
DTSTART:20251102T060000
END:STANDARD
END:VTIMEZONE
BEGIN:VEVENT
DTSTART;TZID=America/New_York:20240818T091500
DTEND;TZID=America/New_York:20240818T101500
DTSTAMP:20260424T084713
CREATED:20240607T134728Z
LAST-MODIFIED:20240811T181610Z
UID:10000193-1723972500-1723976100@crossroadsetown.com
SUMMARY:Adult Starting Point Classes
DESCRIPTION:Are you interested in becoming a member of Crossroads or just learning about who we are? The Starting Point Class is a 6-week class\, which begins Sunday\, July 14th with a light brunch.  Led by Bro. Rob and Bro. Randy\, we will cover what we believe\, how we are governed\, how you can plug in\, and much\, much more.  Sign up today: Adult Starting Point
URL:https://crossroadsetown.com/event/adult-starting-point-classes-6/
LOCATION:Crossroads Baptist Church-2-Room 209 – Classroom (20)
END:VEVENT
BEGIN:VEVENT
DTSTART;TZID=America/New_York:20240811T091500
DTEND;TZID=America/New_York:20240811T101500
DTSTAMP:20260424T084713
CREATED:20240607T134728Z
LAST-MODIFIED:20240810T181628Z
UID:10000192-1723367700-1723371300@crossroadsetown.com
SUMMARY:Adult Starting Point Classes
DESCRIPTION:Are you interested in becoming a member of Crossroads or just learning about who we are? The Starting Point Class is a 6-week class\, which begins Sunday\, July 14th with a light brunch.  Led by Bro. Rob and Bro. Randy\, we will cover what we believe\, how we are governed\, how you can plug in\, and much\, much more.  Sign up today: Adult Starting Point
URL:https://crossroadsetown.com/event/adult-starting-point-classes-5/
LOCATION:Crossroads Baptist Church-2-Room 209 – Classroom (20)
END:VEVENT
BEGIN:VEVENT
DTSTART;TZID=America/New_York:20240804T091500
DTEND;TZID=America/New_York:20240804T101500
DTSTAMP:20260424T084713
CREATED:20240607T134728Z
LAST-MODIFIED:20240803T181745Z
UID:10000191-1722762900-1722766500@crossroadsetown.com
SUMMARY:Adult Starting Point Classes
DESCRIPTION:Are you interested in becoming a member of Crossroads or just learning about who we are? The Starting Point Class is a 6-week class\, which begins Sunday\, July 14th with a light brunch.  Led by Bro. Rob and Bro. Randy\, we will cover what we believe\, how we are governed\, how you can plug in\, and much\, much more.  Sign up today: Adult Starting Point
URL:https://crossroadsetown.com/event/adult-starting-point-classes-4/
LOCATION:Crossroads Baptist Church-2-Room 209 – Classroom (20)
END:VEVENT
BEGIN:VEVENT
DTSTART;TZID=America/New_York:20240728T091500
DTEND;TZID=America/New_York:20240728T101500
DTSTAMP:20260424T084713
CREATED:20240607T134728Z
LAST-MODIFIED:20240727T173240Z
UID:10000190-1722158100-1722161700@crossroadsetown.com
SUMMARY:Adult Starting Point Classes
DESCRIPTION:Are you interested in becoming a member of Crossroads or just learning about who we are? The Starting Point Class is a 6-week class\, which begins Sunday\, July 14th with a light brunch.  Led by Bro. Rob and Bro. Randy\, we will cover what we believe\, how we are governed\, how you can plug in\, and much\, much more.  Sign up today: Adult Starting Point
URL:https://crossroadsetown.com/event/adult-starting-point-classes-3/
LOCATION:Crossroads Baptist Church-2-Room 209 – Classroom (20)
END:VEVENT
BEGIN:VEVENT
DTSTART;TZID=America/New_York:20240721T091500
DTEND;TZID=America/New_York:20240721T101500
DTSTAMP:20260424T084713
CREATED:20240607T134727Z
LAST-MODIFIED:20240720T171714Z
UID:10000189-1721553300-1721556900@crossroadsetown.com
SUMMARY:Adult Starting Point Classes
DESCRIPTION:Are you interested in becoming a member of Crossroads or just learning about who we are? The Starting Point Class is a 6-week class\, which begins Sunday\, July 14th with a light brunch.  Led by Bro. Rob and Bro. Randy\, we will cover what we believe\, how we are governed\, how you can plug in\, and much\, much more.  Sign up today: Adult Starting Point
URL:https://crossroadsetown.com/event/adult-starting-point-classes-2/
LOCATION:Crossroads Baptist Church-2-Room 209 – Classroom (20)
END:VEVENT
BEGIN:VEVENT
DTSTART;TZID=America/New_York:20240714T091500
DTEND;TZID=America/New_York:20240714T101500
DTSTAMP:20260424T084713
CREATED:20240607T134727Z
LAST-MODIFIED:20240713T171755Z
UID:10000186-1720948500-1720952100@crossroadsetown.com
SUMMARY:Adult Starting Point Classes
DESCRIPTION:Are you interested in becoming a member of Crossroads or just learning about who we are? The Starting Point Class is a 6-week class\, which begins Sunday\, July 14th with a light brunch.  Led by Bro. Rob and Bro. Randy\, we will cover what we believe\, how we are governed\, how you can plug in\, and much\, much more.  Sign up today: Adult Starting Point
URL:https://crossroadsetown.com/event/adult-starting-point-classes/
LOCATION:Crossroads Baptist Church-2-Room 209 – Classroom (20)
END:VEVENT
END:VCALENDAR