BEGIN:VCALENDAR
VERSION:2.0
PRODID:-//Crossroads Baptist Church of Elizabethtown - ECPv6.15.16.1//NONSGML v1.0//EN
CALSCALE:GREGORIAN
METHOD:PUBLISH
X-WR-CALNAME:Crossroads Baptist Church of Elizabethtown
X-ORIGINAL-URL:https://crossroadsetown.com
X-WR-CALDESC:Events for Crossroads Baptist Church of Elizabethtown
REFRESH-INTERVAL;VALUE=DURATION:PT1H
X-Robots-Tag:noindex
X-PUBLISHED-TTL:PT1H
BEGIN:VTIMEZONE
TZID:America/New_York
BEGIN:DAYLIGHT
TZOFFSETFROM:-0500
TZOFFSETTO:-0400
TZNAME:EDT
DTSTART:20240310T070000
END:DAYLIGHT
BEGIN:STANDARD
TZOFFSETFROM:-0400
TZOFFSETTO:-0500
TZNAME:EST
DTSTART:20241103T060000
END:STANDARD
BEGIN:DAYLIGHT
TZOFFSETFROM:-0500
TZOFFSETTO:-0400
TZNAME:EDT
DTSTART:20250309T070000
END:DAYLIGHT
BEGIN:STANDARD
TZOFFSETFROM:-0400
TZOFFSETTO:-0500
TZNAME:EST
DTSTART:20251102T060000
END:STANDARD
BEGIN:DAYLIGHT
TZOFFSETFROM:-0500
TZOFFSETTO:-0400
TZNAME:EDT
DTSTART:20260308T070000
END:DAYLIGHT
BEGIN:STANDARD
TZOFFSETFROM:-0400
TZOFFSETTO:-0500
TZNAME:EST
DTSTART:20261101T060000
END:STANDARD
END:VTIMEZONE
BEGIN:VEVENT
DTSTART;VALUE=DATE:20250315
DTEND;VALUE=DATE:20250316
DTSTAMP:20260423T203746
CREATED:20241206T223109Z
LAST-MODIFIED:20250315T020100Z
UID:10000263-1741996800-1742083199@crossroadsetown.com
SUMMARY:Women's Garden Party
DESCRIPTION:
URL:https://crossroadsetown.com/event/womens-garden-party/
END:VEVENT
BEGIN:VEVENT
DTSTART;TZID=America/New_York:20250312T183000
DTEND;TZID=America/New_York:20250312T194500
DTSTAMP:20260423T203746
CREATED:20241206T223109Z
LAST-MODIFIED:20250312T020053Z
UID:10000262-1741804200-1741808700@crossroadsetown.com
SUMMARY:Ladies Bible Study
DESCRIPTION:Join with Google Meet: https://meet.google.com/jej-djuu-xbx\nOr dial: (US) +1 813-563-5340 PIN: 874312362#\nMore phone numbers: https://tel.meet/jej-djuu-xbx?pin=7986903028923&hs=7\nLearn more about Meet at: https://support.google.com/a/users/answer/9282720
URL:https://crossroadsetown.com/event/ladies-bible-study-10/
END:VEVENT
BEGIN:VEVENT
DTSTART;TZID=America/New_York:20250312T183000
DTEND;TZID=America/New_York:20250312T194500
DTSTAMP:20260423T203746
CREATED:20241011T213128Z
LAST-MODIFIED:20250312T020053Z
UID:10000233-1741804200-1741808700@crossroadsetown.com
SUMMARY:Mid-Week Programming
DESCRIPTION:
URL:https://crossroadsetown.com/event/mid-week-programming-21/
END:VEVENT
BEGIN:VEVENT
DTSTART;VALUE=DATE:20250312
DTEND;VALUE=DATE:20250313
DTSTAMP:20260423T203746
CREATED:20241206T223109Z
LAST-MODIFIED:20250312T020053Z
UID:10000261-1741737600-1741823999@crossroadsetown.com
SUMMARY:LifeGroup Leaders Sync
DESCRIPTION:
URL:https://crossroadsetown.com/event/lifegroup-leaders-sync-2/
END:VEVENT
BEGIN:VEVENT
DTSTART;TZID=America/New_York:20250305T183000
DTEND;TZID=America/New_York:20250305T194500
DTSTAMP:20260423T203746
CREATED:20241206T223108Z
LAST-MODIFIED:20250305T014559Z
UID:10000260-1741199400-1741203900@crossroadsetown.com
SUMMARY:Ladies Bible Study
DESCRIPTION:Join with Google Meet: https://meet.google.com/jej-djuu-xbx\nOr dial: (US) +1 813-563-5340 PIN: 874312362#\nMore phone numbers: https://tel.meet/jej-djuu-xbx?pin=7986903028923&hs=7\nLearn more about Meet at: https://support.google.com/a/users/answer/9282720
URL:https://crossroadsetown.com/event/ladies-bible-study-9/
END:VEVENT
BEGIN:VEVENT
DTSTART;TZID=America/New_York:20250305T183000
DTEND;TZID=America/New_York:20250305T194500
DTSTAMP:20260423T203746
CREATED:20241011T213128Z
LAST-MODIFIED:20250305T014559Z
UID:10000232-1741199400-1741203900@crossroadsetown.com
SUMMARY:Mid-Week Programming
DESCRIPTION:
URL:https://crossroadsetown.com/event/mid-week-programming-20/
END:VEVENT
BEGIN:VEVENT
DTSTART;TZID=America/New_York:20250226T183000
DTEND;TZID=America/New_York:20250226T194500
DTSTAMP:20260423T203746
CREATED:20241206T223108Z
LAST-MODIFIED:20250226T014551Z
UID:10000259-1740594600-1740599100@crossroadsetown.com
SUMMARY:Ladies Bible Study
DESCRIPTION:Join with Google Meet: https://meet.google.com/jej-djuu-xbx\nOr dial: (US) +1 813-563-5340 PIN: 874312362#\nMore phone numbers: https://tel.meet/jej-djuu-xbx?pin=7986903028923&hs=7\nLearn more about Meet at: https://support.google.com/a/users/answer/9282720
URL:https://crossroadsetown.com/event/ladies-bible-study-8/
END:VEVENT
BEGIN:VEVENT
DTSTART;TZID=America/New_York:20250226T183000
DTEND;TZID=America/New_York:20250226T194500
DTSTAMP:20260423T203746
CREATED:20241011T213128Z
LAST-MODIFIED:20250226T014551Z
UID:10000231-1740594600-1740599100@crossroadsetown.com
SUMMARY:Mid-Week Programming
DESCRIPTION:
URL:https://crossroadsetown.com/event/mid-week-programming-19/
END:VEVENT
BEGIN:VEVENT
DTSTART;TZID=America/New_York:20250226T174500
DTEND;TZID=America/New_York:20250226T181500
DTSTAMP:20260423T203746
CREATED:20250214T013103Z
LAST-MODIFIED:20250226T014551Z
UID:10000282-1740591900-1740593700@crossroadsetown.com
SUMMARY:5th/6th Grade Winter Retreat Parent's Meeting
DESCRIPTION:
URL:https://crossroadsetown.com/event/5th-6th-grade-winter-retreat-parents-meeting/
LOCATION:Room 121b
END:VEVENT
BEGIN:VEVENT
DTSTART;VALUE=DATE:20250225
DTEND;VALUE=DATE:20250226
DTSTAMP:20260423T203746
CREATED:20241206T223108Z
LAST-MODIFIED:20250225T014556Z
UID:10000258-1740441600-1740527999@crossroadsetown.com
SUMMARY:Bro. Rob's Book Club
DESCRIPTION:
URL:https://crossroadsetown.com/event/bro-robs-book-club-10/
END:VEVENT
BEGIN:VEVENT
DTSTART;TZID=America/New_York:20250219T183000
DTEND;TZID=America/New_York:20250219T194500
DTSTAMP:20260423T203746
CREATED:20241206T223108Z
LAST-MODIFIED:20250219T014626Z
UID:10000257-1739989800-1739994300@crossroadsetown.com
SUMMARY:Ladies Bible Study
DESCRIPTION:Join with Google Meet: https://meet.google.com/jej-djuu-xbx\nOr dial: (US) +1 813-563-5340 PIN: 874312362#\nMore phone numbers: https://tel.meet/jej-djuu-xbx?pin=7986903028923&hs=7\nLearn more about Meet at: https://support.google.com/a/users/answer/9282720
URL:https://crossroadsetown.com/event/ladies-bible-study-7/
END:VEVENT
BEGIN:VEVENT
DTSTART;TZID=America/New_York:20250219T183000
DTEND;TZID=America/New_York:20250219T194500
DTSTAMP:20260423T203746
CREATED:20241011T213128Z
LAST-MODIFIED:20250219T014626Z
UID:10000230-1739989800-1739994300@crossroadsetown.com
SUMMARY:Mid-Week Programming
DESCRIPTION:
URL:https://crossroadsetown.com/event/mid-week-programming-18/
END:VEVENT
BEGIN:VEVENT
DTSTART;VALUE=DATE:20250214
DTEND;VALUE=DATE:20250217
DTSTAMP:20260423T203746
CREATED:20241206T223108Z
LAST-MODIFIED:20250216T013200Z
UID:10000256-1739491200-1739750399@crossroadsetown.com
SUMMARY:Student Winter Retreat
DESCRIPTION:
URL:https://crossroadsetown.com/event/student-winter-retreat/
END:VEVENT
BEGIN:VEVENT
DTSTART;TZID=America/New_York:20250212T183000
DTEND;TZID=America/New_York:20250212T194500
DTSTAMP:20260423T203746
CREATED:20241206T223108Z
LAST-MODIFIED:20250212T013211Z
UID:10000255-1739385000-1739389500@crossroadsetown.com
SUMMARY:Ladies Bible Study
DESCRIPTION:Join with Google Meet: https://meet.google.com/jej-djuu-xbx\nOr dial: (US) +1 813-563-5340 PIN: 874312362#\nMore phone numbers: https://tel.meet/jej-djuu-xbx?pin=7986903028923&hs=7\nLearn more about Meet at: https://support.google.com/a/users/answer/9282720
URL:https://crossroadsetown.com/event/ladies-bible-study-6/
END:VEVENT
BEGIN:VEVENT
DTSTART;TZID=America/New_York:20250212T183000
DTEND;TZID=America/New_York:20250212T194500
DTSTAMP:20260423T203746
CREATED:20241206T223108Z
LAST-MODIFIED:20250212T013210Z
UID:10000253-1739385000-1739389500@crossroadsetown.com
SUMMARY:Family Meeting
DESCRIPTION:
URL:https://crossroadsetown.com/event/family-meeting-4/
END:VEVENT
BEGIN:VEVENT
DTSTART;TZID=America/New_York:20250212T183000
DTEND;TZID=America/New_York:20250212T194500
DTSTAMP:20260423T203746
CREATED:20241011T213128Z
LAST-MODIFIED:20250212T013210Z
UID:10000229-1739385000-1739389500@crossroadsetown.com
SUMMARY:Mid-Week Programming
DESCRIPTION:
URL:https://crossroadsetown.com/event/mid-week-programming-17/
END:VEVENT
BEGIN:VEVENT
DTSTART;TZID=America/New_York:20250209T091500
DTEND;TZID=America/New_York:20250209T101500
DTSTAMP:20260423T203746
CREATED:20241206T223108Z
LAST-MODIFIED:20250209T013125Z
UID:10000250-1739092500-1739096100@crossroadsetown.com
SUMMARY:Sticky Sunday Breakfast
DESCRIPTION:We are so thankful for everyone who serves in our discipleship ministries to ensure that the truth of God’s Word sticks. We are having a pancake breakfast where we will honor and encourage them. Join us on February 9th at 9:15am as we thank them and enjoy breakfast together. 9:15am Sunday School and childcare will not meet. We hope that our entire church will join us because we love those who serve in our discipleship ministries and because we will have a truck load of pancakes.
URL:https://crossroadsetown.com/event/sticky-sunday-breakfast/
END:VEVENT
BEGIN:VEVENT
DTSTART;TZID=America/New_York:20250209T091500
DTEND;TZID=America/New_York:20250209T101500
DTSTAMP:20260423T203746
CREATED:20241206T223108Z
LAST-MODIFIED:20250209T013125Z
UID:10000254-1739092500-1739096100@crossroadsetown.com
SUMMARY:Starting Point Class
DESCRIPTION:
URL:https://crossroadsetown.com/event/starting-point-class-5/
END:VEVENT
BEGIN:VEVENT
DTSTART;TZID=America/New_York:20250205T183000
DTEND;TZID=America/New_York:20250205T194500
DTSTAMP:20260423T203746
CREATED:20250125T003117Z
LAST-MODIFIED:20250125T003117Z
UID:10000276-1738780200-1738784700@crossroadsetown.com
SUMMARY:Sanctity of Life Panel Discussion
DESCRIPTION:Join with Google Meet: https://meet.google.com/mbu-dgrm-xna\nOr dial: (US) +1 562-232-9188 PIN: 196615785#\nMore phone numbers: https://tel.meet/mbu-dgrm-xna?pin=6113622590866&hs=7\nLearn more about Meet at: https://support.google.com/a/users/answer/9282720
URL:https://crossroadsetown.com/event/sanctity-of-life-panel-discussion-2/
LOCATION:Crossroads Baptist Church-2-Room 200 – Sanctuary (500)
END:VEVENT
BEGIN:VEVENT
DTSTART;TZID=America/New_York:20250205T183000
DTEND;TZID=America/New_York:20250205T194500
DTSTAMP:20260423T203746
CREATED:20250125T003117Z
LAST-MODIFIED:20250205T010501Z
UID:10000278-1738780200-1738784700@crossroadsetown.com
SUMMARY:Sanctity of Life Panel Discussion
DESCRIPTION:Join with Google Meet: https://meet.google.com/mbu-dgrm-xna\nOr dial: (US) +1 562-232-9188 PIN: 196615785#\nMore phone numbers: https://tel.meet/mbu-dgrm-xna?pin=6113622590866&hs=7\nLearn more about Meet at: https://support.google.com/a/users/answer/9282720
URL:https://crossroadsetown.com/event/sanctity-of-life-panel-discussion/
LOCATION:Crossroads Baptist Church-2-Room 200 – Sanctuary (500)
END:VEVENT
BEGIN:VEVENT
DTSTART;TZID=America/New_York:20250205T183000
DTEND;TZID=America/New_York:20250205T194500
DTSTAMP:20260423T203746
CREATED:20241206T223108Z
LAST-MODIFIED:20250205T010501Z
UID:10000252-1738780200-1738784700@crossroadsetown.com
SUMMARY:Ladies Bible Study
DESCRIPTION:Join with Google Meet: https://meet.google.com/jej-djuu-xbx\nOr dial: (US) +1 813-563-5340 PIN: 874312362#\nMore phone numbers: https://tel.meet/jej-djuu-xbx?pin=7986903028923&hs=7\nLearn more about Meet at: https://support.google.com/a/users/answer/9282720
URL:https://crossroadsetown.com/event/ladies-bible-study-5/
END:VEVENT
BEGIN:VEVENT
DTSTART;TZID=America/New_York:20250205T183000
DTEND;TZID=America/New_York:20250205T194500
DTSTAMP:20260423T203746
CREATED:20241011T213128Z
LAST-MODIFIED:20250205T010501Z
UID:10000228-1738780200-1738784700@crossroadsetown.com
SUMMARY:Mid-Week Programming
DESCRIPTION:
URL:https://crossroadsetown.com/event/mid-week-programming-16/
END:VEVENT
BEGIN:VEVENT
DTSTART;TZID=America/New_York:20250202T091500
DTEND;TZID=America/New_York:20250202T101500
DTSTAMP:20260423T203746
CREATED:20241206T223108Z
LAST-MODIFIED:20250202T010236Z
UID:10000251-1738487700-1738491300@crossroadsetown.com
SUMMARY:Starting Point Class
DESCRIPTION:
URL:https://crossroadsetown.com/event/starting-point-class-4/
END:VEVENT
BEGIN:VEVENT
DTSTART;TZID=America/New_York:20250129T183000
DTEND;TZID=America/New_York:20250129T194500
DTSTAMP:20260423T203746
CREATED:20241206T223108Z
LAST-MODIFIED:20250129T004640Z
UID:10000249-1738175400-1738179900@crossroadsetown.com
SUMMARY:Ladies Bible Study
DESCRIPTION:Join with Google Meet: https://meet.google.com/jej-djuu-xbx\nOr dial: (US) +1 813-563-5340 PIN: 874312362#\nMore phone numbers: https://tel.meet/jej-djuu-xbx?pin=7986903028923&hs=7\nLearn more about Meet at: https://support.google.com/a/users/answer/9282720
URL:https://crossroadsetown.com/event/ladies-bible-study-4/
END:VEVENT
BEGIN:VEVENT
DTSTART;TZID=America/New_York:20250129T183000
DTEND;TZID=America/New_York:20250129T194500
DTSTAMP:20260423T203746
CREATED:20241011T213128Z
LAST-MODIFIED:20250129T004640Z
UID:10000227-1738175400-1738179900@crossroadsetown.com
SUMMARY:Mid-Week Programming
DESCRIPTION:
URL:https://crossroadsetown.com/event/mid-week-programming-15/
END:VEVENT
BEGIN:VEVENT
DTSTART;TZID=America/New_York:20250129T174500
DTEND;TZID=America/New_York:20250129T181500
DTSTAMP:20260423T203746
CREATED:20250125T003117Z
LAST-MODIFIED:20250129T004640Z
UID:10000277-1738172700-1738174500@crossroadsetown.com
SUMMARY:StudentWinter Retreat Parents Mtg
DESCRIPTION:Join with Google Meet: https://meet.google.com/yvw-tsfy-myy\nOr dial: (US) +1 720-500-2280 PIN: 308044247#\nMore phone numbers: https://tel.meet/yvw-tsfy-myy?pin=7524491095105&hs=7\nLearn more about Meet at: https://support.google.com/a/users/answer/9282720
URL:https://crossroadsetown.com/event/studentwinter-retreat-parents-mtg/
LOCATION:Crossroads Baptist Church-1-Room 121a – Adult Classroom (20)
END:VEVENT
BEGIN:VEVENT
DTSTART;VALUE=DATE:20250128
DTEND;VALUE=DATE:20250129
DTSTAMP:20260423T203746
CREATED:20241206T223108Z
LAST-MODIFIED:20250114T001615Z
UID:10000248-1738022400-1738108799@crossroadsetown.com
SUMMARY:Bro. Rob's Book Club
DESCRIPTION:
URL:https://crossroadsetown.com/event/bro-robs-book-club-9/
END:VEVENT
BEGIN:VEVENT
DTSTART;TZID=America/New_York:20250126T091500
DTEND;TZID=America/New_York:20250126T101500
DTSTAMP:20260423T203746
CREATED:20241206T223108Z
LAST-MODIFIED:20250126T003107Z
UID:10000247-1737882900-1737886500@crossroadsetown.com
SUMMARY:Starting Point Class
DESCRIPTION:
URL:https://crossroadsetown.com/event/starting-point-class-3/
END:VEVENT
BEGIN:VEVENT
DTSTART;VALUE=DATE:20250125
DTEND;VALUE=DATE:20250126
DTSTAMP:20260423T203746
CREATED:20241206T223107Z
LAST-MODIFIED:20250125T003117Z
UID:10000246-1737763200-1737849599@crossroadsetown.com
SUMMARY:Crossroads Institute - Dr. Plummer
DESCRIPTION:
URL:https://crossroadsetown.com/event/crossroads-institute-dr-plummer/
END:VEVENT
BEGIN:VEVENT
DTSTART;TZID=America/New_York:20250122T183000
DTEND;TZID=America/New_York:20250122T194500
DTSTAMP:20260423T203746
CREATED:20241206T223107Z
LAST-MODIFIED:20250123T003247Z
UID:10000245-1737570600-1737575100@crossroadsetown.com
SUMMARY:Ladies Bible Study
DESCRIPTION:Join with Google Meet: https://meet.google.com/jej-djuu-xbx\nOr dial: (US) +1 813-563-5340 PIN: 874312362#\nMore phone numbers: https://tel.meet/jej-djuu-xbx?pin=7986903028923&hs=7\nLearn more about Meet at: https://support.google.com/a/users/answer/9282720
URL:https://crossroadsetown.com/event/ladies-bible-study-3/
END:VEVENT
END:VCALENDAR