BEGIN:VCALENDAR
VERSION:2.0
PRODID:-//Crossroads Baptist Church of Elizabethtown - ECPv6.15.16.1//NONSGML v1.0//EN
CALSCALE:GREGORIAN
METHOD:PUBLISH
X-WR-CALNAME:Crossroads Baptist Church of Elizabethtown
X-ORIGINAL-URL:https://crossroadsetown.com
X-WR-CALDESC:Events for Crossroads Baptist Church of Elizabethtown
REFRESH-INTERVAL;VALUE=DURATION:PT1H
X-Robots-Tag:noindex
X-PUBLISHED-TTL:PT1H
BEGIN:VTIMEZONE
TZID:America/New_York
BEGIN:DAYLIGHT
TZOFFSETFROM:-0500
TZOFFSETTO:-0400
TZNAME:EDT
DTSTART:20220313T070000
END:DAYLIGHT
BEGIN:STANDARD
TZOFFSETFROM:-0400
TZOFFSETTO:-0500
TZNAME:EST
DTSTART:20221106T060000
END:STANDARD
BEGIN:DAYLIGHT
TZOFFSETFROM:-0500
TZOFFSETTO:-0400
TZNAME:EDT
DTSTART:20230312T070000
END:DAYLIGHT
BEGIN:STANDARD
TZOFFSETFROM:-0400
TZOFFSETTO:-0500
TZNAME:EST
DTSTART:20231105T060000
END:STANDARD
BEGIN:DAYLIGHT
TZOFFSETFROM:-0500
TZOFFSETTO:-0400
TZNAME:EDT
DTSTART:20240310T070000
END:DAYLIGHT
BEGIN:STANDARD
TZOFFSETFROM:-0400
TZOFFSETTO:-0500
TZNAME:EST
DTSTART:20241103T060000
END:STANDARD
END:VTIMEZONE
BEGIN:VTIMEZONE
TZID:America/Kentucky/Louisville
BEGIN:DAYLIGHT
TZOFFSETFROM:-0500
TZOFFSETTO:-0400
TZNAME:EDT
DTSTART:20220313T070000
END:DAYLIGHT
BEGIN:STANDARD
TZOFFSETFROM:-0400
TZOFFSETTO:-0500
TZNAME:EST
DTSTART:20221106T060000
END:STANDARD
BEGIN:DAYLIGHT
TZOFFSETFROM:-0500
TZOFFSETTO:-0400
TZNAME:EDT
DTSTART:20230312T070000
END:DAYLIGHT
BEGIN:STANDARD
TZOFFSETFROM:-0400
TZOFFSETTO:-0500
TZNAME:EST
DTSTART:20231105T060000
END:STANDARD
BEGIN:DAYLIGHT
TZOFFSETFROM:-0500
TZOFFSETTO:-0400
TZNAME:EDT
DTSTART:20240310T070000
END:DAYLIGHT
BEGIN:STANDARD
TZOFFSETFROM:-0400
TZOFFSETTO:-0500
TZNAME:EST
DTSTART:20241103T060000
END:STANDARD
END:VTIMEZONE
BEGIN:VEVENT
DTSTART;TZID=America/New_York:20230910T153000
DTEND;TZID=America/New_York:20230910T170000
DTSTAMP:20260424T153419
CREATED:20230817T210057Z
LAST-MODIFIED:20230909T223202Z
UID:10000117-1694359800-1694365200@crossroadsetown.com
SUMMARY:Questioning Christianity
DESCRIPTION:Students 7th-12th grade\, join us on Wednesdays from 4-5:30PM as we discuss the hard questions of our faith.  \n10 Questions Every Teen Should Ask (and Answer) About Christianity\, by Rebecca McLaughlin – Books are available in The Resource Center.  See Stanley for more details.
URL:https://crossroadsetown.com/event/questioning-christianity-16/
LOCATION:401 W. Poplar-1st floor-Neon Chapel (50)
END:VEVENT
BEGIN:VEVENT
DTSTART;TZID=America/New_York:20230910T084500
DTEND;TZID=America/New_York:20230910T101500
DTSTAMP:20260424T153419
CREATED:20230326T021311Z
LAST-MODIFIED:20230807T042300Z
UID:10000072-1694335500-1694340900@crossroadsetown.com
SUMMARY:Pastries for Grandparents
DESCRIPTION:
URL:https://crossroadsetown.com/event/pastries-for-grandparents/
END:VEVENT
BEGIN:VEVENT
DTSTART;TZID=America/New_York:20230903T153000
DTEND;TZID=America/New_York:20230903T170000
DTSTAMP:20260424T153419
CREATED:20230808T043510Z
LAST-MODIFIED:20230902T214748Z
UID:10000116-1693755000-1693760400@crossroadsetown.com
SUMMARY:Questioning Christianity
DESCRIPTION:Students 7th-12th grade\, join us on Wednesdays from 4-5:30PM as we discuss the hard questions of our faith.  \n10 Questions Every Teen Should Ask (and Answer) About Christianity\, by Rebecca McLaughlin – Books are available in The Resource Center.  See Stanley for more details.
URL:https://crossroadsetown.com/event/questioning-christianity-15/
LOCATION:401 W. Poplar-1st floor-Neon Chapel (50)
END:VEVENT
BEGIN:VEVENT
DTSTART;TZID=America/New_York:20230903T103000
DTEND;TZID=America/New_York:20230903T110000
DTSTAMP:20260424T153419
CREATED:20230326T021311Z
LAST-MODIFIED:20230612T091711Z
UID:10000070-1693737000-1693738800@crossroadsetown.com
SUMMARY:Communion
DESCRIPTION:
URL:https://crossroadsetown.com/event/communion-6/
END:VEVENT
BEGIN:VEVENT
DTSTART;VALUE=DATE:20230902
DTEND;VALUE=DATE:20230913
DTSTAMP:20260424T153419
CREATED:20230326T021311Z
LAST-MODIFIED:20230912T223052Z
UID:10000071-1693612800-1694563199@crossroadsetown.com
SUMMARY:Missionary Retreat
DESCRIPTION:
URL:https://crossroadsetown.com/event/missionary-retreat/
END:VEVENT
BEGIN:VEVENT
DTSTART;TZID=America/New_York:20230830T160000
DTEND;TZID=America/New_York:20230830T173000
DTSTAMP:20260424T153419
CREATED:20230623T103346Z
LAST-MODIFIED:20230807T042300Z
UID:10000105-1693411200-1693416600@crossroadsetown.com
SUMMARY:Questioning Christianity
DESCRIPTION:Students 7th-12th grade\, join us on Wednesdays from 4-5:30PM as we discuss the hard questions of our faith.  \n10 Questions Every Teen Should Ask (and Answer) About Christianity\, by Rebecca McLaughlin – Books are available in The Resource Center.  See Stanley for more details.
URL:https://crossroadsetown.com/event/questioning-christianity-10/
LOCATION:401 W. Poplar-1st floor-Neon Chapel (50)
END:VEVENT
BEGIN:VEVENT
DTSTART;TZID=America/New_York:20230830T153000
DTEND;TZID=America/New_York:20230830T170000
DTSTAMP:20260424T153419
CREATED:20230808T043508Z
LAST-MODIFIED:20230816T210128Z
UID:10000115-1693409400-1693414800@crossroadsetown.com
SUMMARY:Questioning Christianity
DESCRIPTION:Students 7th-12th grade\, join us on Wednesdays from 4-5:30PM as we discuss the hard questions of our faith.  \n10 Questions Every Teen Should Ask (and Answer) About Christianity\, by Rebecca McLaughlin – Books are available in The Resource Center.  See Stanley for more details.
URL:https://crossroadsetown.com/event/questioning-christianity-14/
LOCATION:401 W. Poplar-1st floor-Neon Chapel (50)
END:VEVENT
BEGIN:VEVENT
DTSTART;TZID=America/New_York:20230827T153000
DTEND;TZID=America/New_York:20230827T170000
DTSTAMP:20260424T153419
CREATED:20230808T043507Z
LAST-MODIFIED:20230826T212326Z
UID:10000114-1693150200-1693155600@crossroadsetown.com
SUMMARY:Questioning Christianity
DESCRIPTION:Students 7th-12th grade\, join us on Wednesdays from 4-5:30PM as we discuss the hard questions of our faith.  \n10 Questions Every Teen Should Ask (and Answer) About Christianity\, by Rebecca McLaughlin – Books are available in The Resource Center.  See Stanley for more details.
URL:https://crossroadsetown.com/event/questioning-christianity-13/
LOCATION:401 W. Poplar-1st floor-Neon Chapel (50)
END:VEVENT
BEGIN:VEVENT
DTSTART;TZID=America/New_York:20230823T160000
DTEND;TZID=America/New_York:20230823T173000
DTSTAMP:20260424T153419
CREATED:20230623T103346Z
LAST-MODIFIED:20230807T042300Z
UID:10000104-1692806400-1692811800@crossroadsetown.com
SUMMARY:Questioning Christianity
DESCRIPTION:Students 7th-12th grade\, join us on Wednesdays from 4-5:30PM as we discuss the hard questions of our faith.  \n10 Questions Every Teen Should Ask (and Answer) About Christianity\, by Rebecca McLaughlin – Books are available in The Resource Center.  See Stanley for more details.
URL:https://crossroadsetown.com/event/questioning-christianity-9/
LOCATION:401 W. Poplar-1st floor-Neon Chapel (50)
END:VEVENT
BEGIN:VEVENT
DTSTART;TZID=America/New_York:20230823T153000
DTEND;TZID=America/New_York:20230823T170000
DTSTAMP:20260424T153419
CREATED:20230808T043507Z
LAST-MODIFIED:20230816T210128Z
UID:10000113-1692804600-1692810000@crossroadsetown.com
SUMMARY:Questioning Christianity
DESCRIPTION:Students 7th-12th grade\, join us on Wednesdays from 4-5:30PM as we discuss the hard questions of our faith.  \n10 Questions Every Teen Should Ask (and Answer) About Christianity\, by Rebecca McLaughlin – Books are available in The Resource Center.  See Stanley for more details.
URL:https://crossroadsetown.com/event/questioning-christianity-12/
LOCATION:401 W. Poplar-1st floor-Neon Chapel (50)
END:VEVENT
BEGIN:VEVENT
DTSTART;TZID=America/New_York:20230820T153000
DTEND;TZID=America/New_York:20230820T170000
DTSTAMP:20260424T153419
CREATED:20230808T043507Z
LAST-MODIFIED:20230819T211820Z
UID:10000112-1692545400-1692550800@crossroadsetown.com
SUMMARY:Questioning Christianity
DESCRIPTION:Students 7th-12th grade\, join us on Wednesdays from 4-5:30PM as we discuss the hard questions of our faith.  \n10 Questions Every Teen Should Ask (and Answer) About Christianity\, by Rebecca McLaughlin – Books are available in The Resource Center.  See Stanley for more details.
URL:https://crossroadsetown.com/event/questioning-christianity-11/
LOCATION:401 W. Poplar-1st floor-Neon Chapel (50)
END:VEVENT
BEGIN:VEVENT
DTSTART;TZID=America/New_York:20230820T091500
DTEND;TZID=America/New_York:20230820T101500
DTSTAMP:20260424T153419
CREATED:20230628T110057Z
LAST-MODIFIED:20230819T211820Z
UID:10000111-1692522900-1692526500@crossroadsetown.com
SUMMARY:Starting Point Classes
DESCRIPTION:
URL:https://crossroadsetown.com/event/starting-point-classes-6/
END:VEVENT
BEGIN:VEVENT
DTSTART;VALUE=DATE:20230818
DTEND;VALUE=DATE:20230821
DTSTAMP:20260424T153419
CREATED:20230326T021311Z
LAST-MODIFIED:20230601T081707Z
UID:10000069-1692316800-1692575999@crossroadsetown.com
SUMMARY:Men's Retreat
DESCRIPTION:
URL:https://crossroadsetown.com/event/mens-retreat/
END:VEVENT
BEGIN:VEVENT
DTSTART;TZID=America/New_York:20230816T183000
DTEND;TZID=America/New_York:20230816T194500
DTSTAMP:20260424T153419
CREATED:20230326T021311Z
LAST-MODIFIED:20230816T210128Z
UID:10000068-1692210600-1692215100@crossroadsetown.com
SUMMARY:Wed. Discipleship Classes resume
DESCRIPTION:
URL:https://crossroadsetown.com/event/wed-discipleship-classes-resume/
END:VEVENT
BEGIN:VEVENT
DTSTART;TZID=America/New_York:20230816T160000
DTEND;TZID=America/New_York:20230816T173000
DTSTAMP:20260424T153419
CREATED:20230623T103345Z
LAST-MODIFIED:20230807T042300Z
UID:10000103-1692201600-1692207000@crossroadsetown.com
SUMMARY:Questioning Christianity
DESCRIPTION:Students 7th-12th grade\, join us on Wednesdays from 4-5:30PM as we discuss the hard questions of our faith.  \n10 Questions Every Teen Should Ask (and Answer) About Christianity\, by Rebecca McLaughlin – Books are available in The Resource Center.  See Stanley for more details.
URL:https://crossroadsetown.com/event/questioning-christianity-8/
LOCATION:401 W. Poplar-1st floor-Neon Chapel (50)
END:VEVENT
BEGIN:VEVENT
DTSTART;TZID=America/New_York:20230815T180000
DTEND;TZID=America/New_York:20230815T193000
DTSTAMP:20260424T153419
CREATED:20230326T021311Z
LAST-MODIFIED:20230815T210332Z
UID:10000067-1692122400-1692127800@crossroadsetown.com
SUMMARY:Bro. Rob's Book Club
DESCRIPTION:
URL:https://crossroadsetown.com/event/bro-robs-book-club-5/
END:VEVENT
BEGIN:VEVENT
DTSTART;TZID=America/New_York:20230813T091500
DTEND;TZID=America/New_York:20230813T101500
DTSTAMP:20260424T153419
CREATED:20230628T110057Z
LAST-MODIFIED:20230813T043320Z
UID:10000110-1691918100-1691921700@crossroadsetown.com
SUMMARY:Starting Point Classes
DESCRIPTION:
URL:https://crossroadsetown.com/event/starting-point-classes-5/
END:VEVENT
BEGIN:VEVENT
DTSTART;VALUE=DATE:20230813
DTEND;VALUE=DATE:20230814
DTSTAMP:20260424T153419
CREATED:20230326T021311Z
LAST-MODIFIED:20230813T043320Z
UID:10000066-1691884800-1691971199@crossroadsetown.com
SUMMARY:Promotion Sunday
DESCRIPTION:
URL:https://crossroadsetown.com/event/promotion-sunday/
END:VEVENT
BEGIN:VEVENT
DTSTART;TZID=America/New_York:20230809T160000
DTEND;TZID=America/New_York:20230809T173000
DTSTAMP:20260424T153419
CREATED:20230623T103345Z
LAST-MODIFIED:20230807T042300Z
UID:10000102-1691596800-1691602200@crossroadsetown.com
SUMMARY:Questioning Christianity
DESCRIPTION:Students 7th-12th grade\, join us on Wednesdays from 4-5:30PM as we discuss the hard questions of our faith.  \n10 Questions Every Teen Should Ask (and Answer) About Christianity\, by Rebecca McLaughlin – Books are available in The Resource Center.  See Stanley for more details.
URL:https://crossroadsetown.com/event/questioning-christianity-7/
LOCATION:401 W. Poplar-1st floor-Neon Chapel (50)
END:VEVENT
BEGIN:VEVENT
DTSTART;VALUE=DATE:20230809
DTEND;VALUE=DATE:20230810
DTSTAMP:20260424T153419
CREATED:20230326T021311Z
LAST-MODIFIED:20230809T043533Z
UID:10000065-1691539200-1691625599@crossroadsetown.com
SUMMARY:Back To School Tailgate
DESCRIPTION:
URL:https://crossroadsetown.com/event/back-to-school-tailgate/
END:VEVENT
BEGIN:VEVENT
DTSTART;TZID=America/New_York:20230806T103000
DTEND;TZID=America/New_York:20230806T110000
DTSTAMP:20260424T153419
CREATED:20230326T021311Z
LAST-MODIFIED:20230612T091711Z
UID:10000064-1691317800-1691319600@crossroadsetown.com
SUMMARY:Communion
DESCRIPTION:
URL:https://crossroadsetown.com/event/communion-5/
END:VEVENT
BEGIN:VEVENT
DTSTART;TZID=America/New_York:20230806T091500
DTEND;TZID=America/New_York:20230806T101500
DTSTAMP:20260424T153419
CREATED:20230628T110057Z
LAST-MODIFIED:20230806T041639Z
UID:10000109-1691313300-1691316900@crossroadsetown.com
SUMMARY:Starting Point Classes
DESCRIPTION:
URL:https://crossroadsetown.com/event/starting-point-classes-4/
END:VEVENT
BEGIN:VEVENT
DTSTART;VALUE=DATE:20230805
DTEND;VALUE=DATE:20230806
DTSTAMP:20260424T153419
CREATED:20230326T021311Z
LAST-MODIFIED:20230508T054601Z
UID:10000063-1691193600-1691279999@crossroadsetown.com
SUMMARY:Giggles Camp
DESCRIPTION:
URL:https://crossroadsetown.com/event/giggles-camp-3/
END:VEVENT
BEGIN:VEVENT
DTSTART;TZID=America/New_York:20230802T160000
DTEND;TZID=America/New_York:20230802T173000
DTSTAMP:20260424T153419
CREATED:20230623T103333Z
LAST-MODIFIED:20230802T034607Z
UID:10000101-1690992000-1690997400@crossroadsetown.com
SUMMARY:Questioning Christianity
DESCRIPTION:Students 7th-12th grade\, join us on Wednesdays from 4-5:30PM as we discuss the hard questions of our faith.  \n10 Questions Every Teen Should Ask (and Answer) About Christianity\, by Rebecca McLaughlin – Books are available in The Resource Center.  See Stanley for more details.
URL:https://crossroadsetown.com/event/questioning-christianity-6/
LOCATION:401 W. Poplar-1st floor-Neon Chapel (50)
END:VEVENT
BEGIN:VEVENT
DTSTART;TZID=America/New_York:20230730T091500
DTEND;TZID=America/New_York:20230730T101500
DTSTAMP:20260424T153419
CREATED:20230628T110057Z
LAST-MODIFIED:20230730T033309Z
UID:10000108-1690708500-1690712100@crossroadsetown.com
SUMMARY:Starting Point Classes
DESCRIPTION:
URL:https://crossroadsetown.com/event/starting-point-classes-3/
END:VEVENT
BEGIN:VEVENT
DTSTART;VALUE=DATE:20230728
DTEND;VALUE=DATE:20230807
DTSTAMP:20260424T153419
CREATED:20230326T021311Z
LAST-MODIFIED:20230806T041639Z
UID:10000062-1690502400-1691366399@crossroadsetown.com
SUMMARY:Guatemala Trip
DESCRIPTION:
URL:https://crossroadsetown.com/event/guatemala-trip/
END:VEVENT
BEGIN:VEVENT
DTSTART;TZID=America/New_York:20230726T160000
DTEND;TZID=America/New_York:20230726T173000
DTSTAMP:20260424T153419
CREATED:20230623T103333Z
LAST-MODIFIED:20230726T031809Z
UID:10000100-1690387200-1690392600@crossroadsetown.com
SUMMARY:Questioning Christianity
DESCRIPTION:Students 7th-12th grade\, join us on Wednesdays from 4-5:30PM as we discuss the hard questions of our faith.  \n10 Questions Every Teen Should Ask (and Answer) About Christianity\, by Rebecca McLaughlin – Books are available in The Resource Center.  See Stanley for more details.
URL:https://crossroadsetown.com/event/questioning-christianity-5/
LOCATION:401 W. Poplar-1st floor-Neon Chapel (50)
END:VEVENT
BEGIN:VEVENT
DTSTART;TZID=America/New_York:20230723T091500
DTEND;TZID=America/New_York:20230723T101500
DTSTAMP:20260424T153419
CREATED:20230628T110057Z
LAST-MODIFIED:20230722T223148Z
UID:10000107-1690103700-1690107300@crossroadsetown.com
SUMMARY:Starting Point Classes
DESCRIPTION:
URL:https://crossroadsetown.com/event/starting-point-classes-2/
END:VEVENT
BEGIN:VEVENT
DTSTART;TZID=America/Kentucky/Louisville:20230722T080000
DTEND;TZID=America/Kentucky/Louisville:20230725T170000
DTSTAMP:20260424T153419
CREATED:20230212T201116Z
LAST-MODIFIED:20230212T201116Z
UID:10000014-1690012800-1690304400@crossroadsetown.com
SUMMARY:Kids Camp 2023
DESCRIPTION:DATES | July 22-25\, 2023 \nWHO CAN ATTEND | We would love for every student in our ministry to get to attend camp with us. They are more than welcome to invite their friends as well. We are inviting any of our students who have completed 3rd grade through 6th grade to join us! \nCOST | The cost of camp this year is $299 per person. A $75 non-refundable deposit is due by March 5th in order to secure your student’s spot. We anticipate spots filling up quickly. \nWHERE | We will attend camp at the Crossings Cedarmore location\, which is in Bagdad\, KY. We will travel an hour and a half from Elizabethtown. \nRegister here: Sign up
URL:https://crossroadsetown.com/event/kids-camp-2023/
LOCATION:Crossings Cedarmore\, Bagdad\, KY
ATTACH;FMTTYPE=image/png:https://crossroadsetown.com/wp-content/uploads/2023/02/KidsCamp2023Logo.png
ORGANIZER;CN="Shelby Jump":MAILTO:shelby@crossroadsetown.com
END:VEVENT
BEGIN:VEVENT
DTSTART;VALUE=DATE:20230722
DTEND;VALUE=DATE:20230726
DTSTAMP:20260424T153419
CREATED:20230326T021310Z
LAST-MODIFIED:20230725T225244Z
UID:10000061-1689984000-1690329599@crossroadsetown.com
SUMMARY:Kids Camp
DESCRIPTION:
URL:https://crossroadsetown.com/event/kids-camp/
END:VEVENT
END:VCALENDAR