BEGIN:VCALENDAR
VERSION:2.0
PRODID:-//Crossroads Baptist Church of Elizabethtown - ECPv6.15.16.1//NONSGML v1.0//EN
CALSCALE:GREGORIAN
METHOD:PUBLISH
X-ORIGINAL-URL:https://crossroadsetown.com
X-WR-CALDESC:Events for Crossroads Baptist Church of Elizabethtown
REFRESH-INTERVAL;VALUE=DURATION:PT1H
X-Robots-Tag:noindex
X-PUBLISHED-TTL:PT1H
BEGIN:VTIMEZONE
TZID:America/New_York
BEGIN:DAYLIGHT
TZOFFSETFROM:-0500
TZOFFSETTO:-0400
TZNAME:EDT
DTSTART:20220313T070000
END:DAYLIGHT
BEGIN:STANDARD
TZOFFSETFROM:-0400
TZOFFSETTO:-0500
TZNAME:EST
DTSTART:20221106T060000
END:STANDARD
BEGIN:DAYLIGHT
TZOFFSETFROM:-0500
TZOFFSETTO:-0400
TZNAME:EDT
DTSTART:20230312T070000
END:DAYLIGHT
BEGIN:STANDARD
TZOFFSETFROM:-0400
TZOFFSETTO:-0500
TZNAME:EST
DTSTART:20231105T060000
END:STANDARD
BEGIN:DAYLIGHT
TZOFFSETFROM:-0500
TZOFFSETTO:-0400
TZNAME:EDT
DTSTART:20240310T070000
END:DAYLIGHT
BEGIN:STANDARD
TZOFFSETFROM:-0400
TZOFFSETTO:-0500
TZNAME:EST
DTSTART:20241103T060000
END:STANDARD
BEGIN:DAYLIGHT
TZOFFSETFROM:-0500
TZOFFSETTO:-0400
TZNAME:EDT
DTSTART:20250309T070000
END:DAYLIGHT
BEGIN:STANDARD
TZOFFSETFROM:-0400
TZOFFSETTO:-0500
TZNAME:EST
DTSTART:20251102T060000
END:STANDARD
END:VTIMEZONE
BEGIN:VEVENT
DTSTART;TZID=America/New_York:20240428T170000
DTEND;TZID=America/New_York:20240428T200000
DTSTAMP:20260424T095243
CREATED:20240305T083340Z
LAST-MODIFIED:20240428T104634Z
UID:10000159-1714323600-1714334400@crossroadsetown.com
SUMMARY:Missions First Fundraiser
DESCRIPTION:
URL:https://crossroadsetown.com/event/missions-first-fundraiser/
END:VEVENT
BEGIN:VEVENT
DTSTART;TZID=America/New_York:20240428T170000
DTEND;TZID=America/New_York:20240428T200000
DTSTAMP:20260424T095243
CREATED:20240305T083340Z
LAST-MODIFIED:20240305T083340Z
UID:10000153-1714323600-1714334400@crossroadsetown.com
SUMMARY:Missions First Fundraiser
DESCRIPTION:
URL:https://crossroadsetown.com/event/missions-first-fundraiser-2/
END:VEVENT
BEGIN:VEVENT
DTSTART;TZID=America/New_York:20240414T143000
DTEND;TZID=America/New_York:20240414T200000
DTSTAMP:20260424T095243
CREATED:20240305T083340Z
LAST-MODIFIED:20240305T083340Z
UID:10000152-1713105000-1713124800@crossroadsetown.com
SUMMARY:Students - Night on the Town
DESCRIPTION:
URL:https://crossroadsetown.com/event/students-night-on-the-town-3/
END:VEVENT
BEGIN:VEVENT
DTSTART;TZID=America/New_York:20240414T143000
DTEND;TZID=America/New_York:20240414T200000
DTSTAMP:20260424T095243
CREATED:20240305T083340Z
LAST-MODIFIED:20240414T101621Z
UID:10000158-1713105000-1713124800@crossroadsetown.com
SUMMARY:Students - Night on the Town
DESCRIPTION:
URL:https://crossroadsetown.com/event/students-night-on-the-town-2/
END:VEVENT
BEGIN:VEVENT
DTSTART;TZID=America/New_York:20240404T123000
DTEND;TZID=America/New_York:20240404T163000
DTSTAMP:20260424T095243
CREATED:20240305T083340Z
LAST-MODIFIED:20240305T083340Z
UID:10000151-1712233800-1712248200@crossroadsetown.com
SUMMARY:Students to Activate Games
DESCRIPTION:
URL:https://crossroadsetown.com/event/students-to-activate-games/
END:VEVENT
BEGIN:VEVENT
DTSTART;TZID=America/New_York:20240404T123000
DTEND;TZID=America/New_York:20240404T163000
DTSTAMP:20260424T095243
CREATED:20240305T083340Z
LAST-MODIFIED:20240404T100141Z
UID:10000157-1712233800-1712248200@crossroadsetown.com
SUMMARY:Students to Activate Games
DESCRIPTION:
URL:https://crossroadsetown.com/event/students-to-activate-games-2/
END:VEVENT
BEGIN:VEVENT
DTSTART;VALUE=DATE:20240403
DTEND;VALUE=DATE:20240404
DTSTAMP:20260424T095243
CREATED:20240222T083534Z
LAST-MODIFIED:20240403T100131Z
UID:10000150-1712102400-1712188799@crossroadsetown.com
SUMMARY:No Mid-Week Programming
DESCRIPTION:
URL:https://crossroadsetown.com/event/no-mid-week-programming-2/
END:VEVENT
BEGIN:VEVENT
DTSTART;VALUE=DATE:20240331
DTEND;VALUE=DATE:20240401
DTSTAMP:20260424T095243
CREATED:20240112T055018Z
LAST-MODIFIED:20240331T100051Z
UID:10000145-1711843200-1711929599@crossroadsetown.com
SUMMARY:Resurrection Sunday
DESCRIPTION:
URL:https://crossroadsetown.com/event/resurrection-sunday/
END:VEVENT
BEGIN:VEVENT
DTSTART;VALUE=DATE:20240320
DTEND;VALUE=DATE:20240321
DTSTAMP:20260424T095243
CREATED:20240222T083534Z
LAST-MODIFIED:20240320T094554Z
UID:10000149-1710892800-1710979199@crossroadsetown.com
SUMMARY:No Mid-Week Programming
DESCRIPTION:
URL:https://crossroadsetown.com/event/no-mid-week-programming/
END:VEVENT
BEGIN:VEVENT
DTSTART;TZID=America/New_York:20240317T130000
DTEND;TZID=America/New_York:20240317T180000
DTSTAMP:20260424T095243
CREATED:20240222T083534Z
LAST-MODIFIED:20240317T093436Z
UID:10000148-1710680400-1710698400@crossroadsetown.com
SUMMARY:Wear Your Work Clothes to Church
DESCRIPTION:
URL:https://crossroadsetown.com/event/wear-your-work-clothes-to-church/
END:VEVENT
BEGIN:VEVENT
DTSTART;VALUE=DATE:20240301
DTEND;VALUE=DATE:20240304
DTSTAMP:20260424T095243
CREATED:20240112T055018Z
LAST-MODIFIED:20240303T083051Z
UID:10000144-1709251200-1709510399@crossroadsetown.com
SUMMARY:Ladies' Retreat
DESCRIPTION:
URL:https://crossroadsetown.com/event/ladies-retreat/
LOCATION:Pine Paradise\, 394 Peace Lane\, Bee Spring\, KY 42207\, USA
END:VEVENT
BEGIN:VEVENT
DTSTART;TZID=America/New_York:20240228T180000
DTEND;TZID=America/New_York:20240228T194500
DTSTAMP:20260424T095243
CREATED:20240222T083534Z
LAST-MODIFIED:20240228T083324Z
UID:10000147-1709143200-1709149500@crossroadsetown.com
SUMMARY:Scotland Mission Team Report
DESCRIPTION:
URL:https://crossroadsetown.com/event/scotland-mission-team-report/
END:VEVENT
BEGIN:VEVENT
DTSTART;TZID=America/New_York:20240221T183000
DTEND;TZID=America/New_York:20240221T193000
DTSTAMP:20260424T095243
CREATED:20240112T055018Z
LAST-MODIFIED:20240221T083129Z
UID:10000143-1708540200-1708543800@crossroadsetown.com
SUMMARY:LifeGroup Leader's Sync
DESCRIPTION:
URL:https://crossroadsetown.com/event/lifegroup-leaders-sync/
LOCATION:401 W. Poplar-1st floor-Room 115 (25)
END:VEVENT
BEGIN:VEVENT
DTSTART;TZID=America/New_York:20240218T091500
DTEND;TZID=America/New_York:20240218T101500
DTSTAMP:20260424T095243
CREATED:20231111T003208Z
LAST-MODIFIED:20240218T083310Z
UID:10000139-1708247700-1708251300@crossroadsetown.com
SUMMARY:Starting Point
DESCRIPTION:
URL:https://crossroadsetown.com/event/starting-point-8/
END:VEVENT
BEGIN:VEVENT
DTSTART;VALUE=DATE:20240218
DTEND;VALUE=DATE:20240219
DTSTAMP:20260424T095243
CREATED:20230821T211938Z
LAST-MODIFIED:20240218T083310Z
UID:10000121-1708214400-1708300799@crossroadsetown.com
SUMMARY:Winter Retreat
DESCRIPTION:
URL:https://crossroadsetown.com/event/winter-retreat-3/
END:VEVENT
BEGIN:VEVENT
DTSTART;VALUE=DATE:20240217
DTEND;VALUE=DATE:20240218
DTSTAMP:20260424T095243
CREATED:20230821T211937Z
LAST-MODIFIED:20240217T083105Z
UID:10000120-1708128000-1708214399@crossroadsetown.com
SUMMARY:Winter Retreat
DESCRIPTION:
URL:https://crossroadsetown.com/event/winter-retreat-2/
END:VEVENT
BEGIN:VEVENT
DTSTART;VALUE=DATE:20240216
DTEND;VALUE=DATE:20240217
DTSTAMP:20260424T095243
CREATED:20230821T211937Z
LAST-MODIFIED:20240216T083112Z
UID:10000119-1708041600-1708127999@crossroadsetown.com
SUMMARY:Winter Retreat
DESCRIPTION:
URL:https://crossroadsetown.com/event/winter-retreat/
END:VEVENT
BEGIN:VEVENT
DTSTART;TZID=America/New_York:20240212T120000
DTEND;TZID=America/New_York:20240212T150000
DTSTAMP:20260424T095243
CREATED:20240208T082426Z
LAST-MODIFIED:20240212T083531Z
UID:10000146-1707739200-1707750000@crossroadsetown.com
SUMMARY:Cintas Sprinkler Inspection
DESCRIPTION:Join with Google Meet: https://meet.google.com/xym-qxwh-vob\nOr dial: (US) +1 443-507-8744 PIN: 263618184#\nMore phone numbers: https://tel.meet/xym-qxwh-vob?pin=8877594091130&hs=7\nLearn more about Meet at: https://support.google.com/a/users/answer/9282720
URL:https://crossroadsetown.com/event/cintas-sprinkler-inspection/
END:VEVENT
BEGIN:VEVENT
DTSTART;TZID=America/New_York:20240211T091500
DTEND;TZID=America/New_York:20240211T101500
DTSTAMP:20260424T095243
CREATED:20231111T003207Z
LAST-MODIFIED:20240211T083154Z
UID:10000136-1707642900-1707646500@crossroadsetown.com
SUMMARY:Starting Point
DESCRIPTION:
URL:https://crossroadsetown.com/event/starting-point-6/
END:VEVENT
BEGIN:VEVENT
DTSTART;TZID=America/New_York:20240211T091500
DTEND;TZID=America/New_York:20240211T101500
DTSTAMP:20260424T095243
CREATED:20231111T003207Z
LAST-MODIFIED:20231111T003207Z
UID:10000138-1707642900-1707646500@crossroadsetown.com
SUMMARY:Starting Point
DESCRIPTION:
URL:https://crossroadsetown.com/event/starting-point-7/
END:VEVENT
BEGIN:VEVENT
DTSTART;VALUE=DATE:20240207
DTEND;VALUE=DATE:20240216
DTSTAMP:20260424T095243
CREATED:20240112T055017Z
LAST-MODIFIED:20240215T083346Z
UID:10000142-1707264000-1708041599@crossroadsetown.com
SUMMARY:Scotland Mission Trip
DESCRIPTION:
URL:https://crossroadsetown.com/event/scotland-mission-trip/
END:VEVENT
BEGIN:VEVENT
DTSTART;TZID=America/New_York:20240204T091500
DTEND;TZID=America/New_York:20240204T101500
DTSTAMP:20260424T095243
CREATED:20231111T003207Z
LAST-MODIFIED:20240204T074848Z
UID:10000135-1707038100-1707041700@crossroadsetown.com
SUMMARY:Starting Point
DESCRIPTION:
URL:https://crossroadsetown.com/event/starting-point-4/
END:VEVENT
BEGIN:VEVENT
DTSTART;TZID=America/New_York:20240204T091500
DTEND;TZID=America/New_York:20240204T101500
DTSTAMP:20260424T095243
CREATED:20231111T003207Z
LAST-MODIFIED:20231111T003207Z
UID:10000137-1707038100-1707041700@crossroadsetown.com
SUMMARY:Starting Point
DESCRIPTION:
URL:https://crossroadsetown.com/event/starting-point-5/
END:VEVENT
BEGIN:VEVENT
DTSTART;TZID=America/New_York:20240128T091500
DTEND;TZID=America/New_York:20240128T101500
DTSTAMP:20260424T095243
CREATED:20231111T003207Z
LAST-MODIFIED:20240128T073131Z
UID:10000134-1706433300-1706436900@crossroadsetown.com
SUMMARY:Starting Point
DESCRIPTION:
URL:https://crossroadsetown.com/event/starting-point-3/
END:VEVENT
BEGIN:VEVENT
DTSTART;TZID=America/New_York:20240121T091500
DTEND;TZID=America/New_York:20240121T101500
DTSTAMP:20260424T095243
CREATED:20231111T003207Z
LAST-MODIFIED:20240121T071555Z
UID:10000133-1705828500-1705832100@crossroadsetown.com
SUMMARY:Starting Point
DESCRIPTION:
URL:https://crossroadsetown.com/event/starting-point-2/
END:VEVENT
BEGIN:VEVENT
DTSTART;TZID=America/New_York:20240114T091500
DTEND;TZID=America/New_York:20240114T101500
DTSTAMP:20260424T095243
CREATED:20231111T003207Z
LAST-MODIFIED:20240114T061702Z
UID:10000132-1705223700-1705227300@crossroadsetown.com
SUMMARY:Starting Point
DESCRIPTION:
URL:https://crossroadsetown.com/event/starting-point/
END:VEVENT
BEGIN:VEVENT
DTSTART;VALUE=DATE:20240113
DTEND;VALUE=DATE:20240116
DTSTAMP:20260424T095243
CREATED:20240112T055017Z
LAST-MODIFIED:20240115T061808Z
UID:10000141-1705104000-1705363199@crossroadsetown.com
SUMMARY:Kid's Weekend Splash
DESCRIPTION:
URL:https://crossroadsetown.com/event/kids-weekend-splash/
END:VEVENT
BEGIN:VEVENT
DTSTART;TZID=America/New_York:20231224T180000
DTEND;TZID=America/New_York:20231224T190000
DTSTAMP:20260424T095243
CREATED:20231215T042140Z
LAST-MODIFIED:20231224T044934Z
UID:10000140-1703440800-1703444400@crossroadsetown.com
SUMMARY:Carols\, Candlelight\, and Communion
DESCRIPTION:
URL:https://crossroadsetown.com/event/carols-candlelight-and-communion/
END:VEVENT
BEGIN:VEVENT
DTSTART;TZID=America/New_York:20231224T103000
DTEND;TZID=America/New_York:20231224T110000
DTSTAMP:20260424T095243
CREATED:20230326T021311Z
LAST-MODIFIED:20231215T042140Z
UID:10000081-1703413800-1703415600@crossroadsetown.com
SUMMARY:Communion
DESCRIPTION:
URL:https://crossroadsetown.com/event/communion-10/
END:VEVENT
BEGIN:VEVENT
DTSTART;TZID=America/New_York:20231210T120000
DTEND;TZID=America/New_York:20231210T123000
DTSTAMP:20260424T095243
CREATED:20230326T021311Z
LAST-MODIFIED:20231210T040105Z
UID:10000080-1702209600-1702211400@crossroadsetown.com
SUMMARY:Family Meeting
DESCRIPTION:
URL:https://crossroadsetown.com/event/family-meeting-3/
END:VEVENT
END:VCALENDAR