BEGIN:VCALENDAR
VERSION:2.0
PRODID:-//Crossroads Baptist Church of Elizabethtown - ECPv6.15.16.1//NONSGML v1.0//EN
CALSCALE:GREGORIAN
METHOD:PUBLISH
X-ORIGINAL-URL:https://crossroadsetown.com
X-WR-CALDESC:Events for Crossroads Baptist Church of Elizabethtown
REFRESH-INTERVAL;VALUE=DURATION:PT1H
X-Robots-Tag:noindex
X-PUBLISHED-TTL:PT1H
BEGIN:VTIMEZONE
TZID:America/New_York
BEGIN:DAYLIGHT
TZOFFSETFROM:-0500
TZOFFSETTO:-0400
TZNAME:EDT
DTSTART:20230312T070000
END:DAYLIGHT
BEGIN:STANDARD
TZOFFSETFROM:-0400
TZOFFSETTO:-0500
TZNAME:EST
DTSTART:20231105T060000
END:STANDARD
BEGIN:DAYLIGHT
TZOFFSETFROM:-0500
TZOFFSETTO:-0400
TZNAME:EDT
DTSTART:20240310T070000
END:DAYLIGHT
BEGIN:STANDARD
TZOFFSETFROM:-0400
TZOFFSETTO:-0500
TZNAME:EST
DTSTART:20241103T060000
END:STANDARD
BEGIN:DAYLIGHT
TZOFFSETFROM:-0500
TZOFFSETTO:-0400
TZNAME:EDT
DTSTART:20250309T070000
END:DAYLIGHT
BEGIN:STANDARD
TZOFFSETFROM:-0400
TZOFFSETTO:-0500
TZNAME:EST
DTSTART:20251102T060000
END:STANDARD
END:VTIMEZONE
BEGIN:VEVENT
DTSTART;TZID=America/New_York:20241012T090000
DTEND;TZID=America/New_York:20241012T110000
DTSTAMP:20260424T041805
CREATED:20240906T194600Z
LAST-MODIFIED:20241011T213126Z
UID:10000200-1728723600-1728730800@crossroadsetown.com
SUMMARY:Pumpkin Patch Event - 1-4th Grade
DESCRIPTION:
URL:https://crossroadsetown.com/event/pumpkin-patch-event-k-3/
END:VEVENT
BEGIN:VEVENT
DTSTART;VALUE=DATE:20241008
DTEND;VALUE=DATE:20241009
DTSTAMP:20260424T041805
CREATED:20240906T194600Z
LAST-MODIFIED:20241008T213111Z
UID:10000199-1728345600-1728431999@crossroadsetown.com
SUMMARY:Student - Activate Games
DESCRIPTION:
URL:https://crossroadsetown.com/event/student-activate-games/
END:VEVENT
BEGIN:VEVENT
DTSTART;TZID=America/New_York:20241002T183000
DTEND;TZID=America/New_York:20241002T194500
DTSTAMP:20260424T041805
CREATED:20240910T194654Z
LAST-MODIFIED:20241002T211748Z
UID:10000204-1727893800-1727898300@crossroadsetown.com
SUMMARY:Mid-Week Programming
DESCRIPTION:
URL:https://crossroadsetown.com/event/mid-week-programming-4/
END:VEVENT
BEGIN:VEVENT
DTSTART;TZID=America/New_York:20240930T170000
DTEND;TZID=America/New_York:20240930T190000
DTSTAMP:20260424T041805
CREATED:20240906T194559Z
LAST-MODIFIED:20240930T211625Z
UID:10000198-1727715600-1727722800@crossroadsetown.com
SUMMARY:Dad's Day/Read to Me Month Kick Off
DESCRIPTION:
URL:https://crossroadsetown.com/event/dads-day-read-to-me-month-kick-off/
LOCATION:Crossroads Baptist Church-1-Room 119 – Fellowship Area (150)
END:VEVENT
BEGIN:VEVENT
DTSTART;TZID=America/New_York:20240925T183000
DTEND;TZID=America/New_York:20240925T194500
DTSTAMP:20260424T041805
CREATED:20240910T194654Z
LAST-MODIFIED:20240925T210138Z
UID:10000203-1727289000-1727293500@crossroadsetown.com
SUMMARY:Mid-Week Programming
DESCRIPTION:
URL:https://crossroadsetown.com/event/mid-week-programming-3/
END:VEVENT
BEGIN:VEVENT
DTSTART;TZID=America/New_York:20240918T183000
DTEND;TZID=America/New_York:20240918T194500
DTSTAMP:20260424T041805
CREATED:20240910T194654Z
LAST-MODIFIED:20240918T203100Z
UID:10000202-1726684200-1726688700@crossroadsetown.com
SUMMARY:Mid-Week Programming
DESCRIPTION:
URL:https://crossroadsetown.com/event/mid-week-programming-2/
END:VEVENT
BEGIN:VEVENT
DTSTART;TZID=America/New_York:20240915T140000
DTEND;TZID=America/New_York:20240915T160000
DTSTAMP:20260424T041805
CREATED:20240906T194559Z
LAST-MODIFIED:20240914T194643Z
UID:10000197-1726408800-1726416000@crossroadsetown.com
SUMMARY:5th/6th Grade Hang
DESCRIPTION:Sign up to attend: https://onrealm.org/crossroadsetown/PublicRegistrations/Event?linkString=ZGFlM2ExNTgtMTVmZS00NzA5LWJlYjMtYjFkMjAxMDU0ZDZk
URL:https://crossroadsetown.com/event/5th-6th-grade-hang/
LOCATION:Sky’s the Limit\, 3024 Ring Rd\, Elizabethtown\, KY\, United States
GEO:37.71206;-85.840061
X-APPLE-STRUCTURED-LOCATION;VALUE=URI;X-ADDRESS=Sky’s the Limit 3024 Ring Rd Elizabethtown KY United States;X-APPLE-RADIUS=500;X-TITLE=3024 Ring Rd:geo:-85.840061,37.71206
END:VEVENT
BEGIN:VEVENT
DTSTART;TZID=America/New_York:20240914T090000
DTEND;TZID=America/New_York:20240914T120000
DTSTAMP:20260424T041805
CREATED:20240906T194559Z
LAST-MODIFIED:20240913T194630Z
UID:10000196-1726304400-1726315200@crossroadsetown.com
SUMMARY:Clarity Walk for Abundant Life
DESCRIPTION:https://supportclarity.org/portfolio-items/walk/?fbclid=IwY2xjawFG7vdleHRuA2FlbQIxMQABHVtKPM0IBayA_GxwF6PcQrE6ygXCyBmjxnS6BOLRahhZghVgY_kJnDevZQ_aem_l8SiZo8Y_ODqJuDCUJU8yw
URL:https://crossroadsetown.com/event/clarity-walk-for-abundant-life/
END:VEVENT
BEGIN:VEVENT
DTSTART;TZID=America/New_York:20240911T183000
DTEND;TZID=America/New_York:20240911T194500
DTSTAMP:20260424T041805
CREATED:20240910T194654Z
LAST-MODIFIED:20240911T194551Z
UID:10000201-1726079400-1726083900@crossroadsetown.com
SUMMARY:Mid-Week Programming
DESCRIPTION:
URL:https://crossroadsetown.com/event/mid-week-programming/
END:VEVENT
BEGIN:VEVENT
DTSTART;TZID=America/New_York:20240911T183000
DTEND;TZID=America/New_York:20240911T194500
DTSTAMP:20260424T041805
CREATED:20240906T194559Z
LAST-MODIFIED:20240911T194551Z
UID:10000195-1726079400-1726083900@crossroadsetown.com
SUMMARY:Student Wednesday Night Hang
DESCRIPTION:
URL:https://crossroadsetown.com/event/student-wednesday-night-hang/
END:VEVENT
BEGIN:VEVENT
DTSTART;TZID=America/New_York:20240818T091500
DTEND;TZID=America/New_York:20240818T101500
DTSTAMP:20260424T041805
CREATED:20240607T134728Z
LAST-MODIFIED:20240811T181610Z
UID:10000193-1723972500-1723976100@crossroadsetown.com
SUMMARY:Adult Starting Point Classes
DESCRIPTION:Are you interested in becoming a member of Crossroads or just learning about who we are? The Starting Point Class is a 6-week class\, which begins Sunday\, July 14th with a light brunch.  Led by Bro. Rob and Bro. Randy\, we will cover what we believe\, how we are governed\, how you can plug in\, and much\, much more.  Sign up today: Adult Starting Point
URL:https://crossroadsetown.com/event/adult-starting-point-classes-6/
LOCATION:Crossroads Baptist Church-2-Room 209 – Classroom (20)
END:VEVENT
BEGIN:VEVENT
DTSTART;TZID=America/New_York:20240811T091500
DTEND;TZID=America/New_York:20240811T101500
DTSTAMP:20260424T041805
CREATED:20240607T134728Z
LAST-MODIFIED:20240810T181628Z
UID:10000192-1723367700-1723371300@crossroadsetown.com
SUMMARY:Adult Starting Point Classes
DESCRIPTION:Are you interested in becoming a member of Crossroads or just learning about who we are? The Starting Point Class is a 6-week class\, which begins Sunday\, July 14th with a light brunch.  Led by Bro. Rob and Bro. Randy\, we will cover what we believe\, how we are governed\, how you can plug in\, and much\, much more.  Sign up today: Adult Starting Point
URL:https://crossroadsetown.com/event/adult-starting-point-classes-5/
LOCATION:Crossroads Baptist Church-2-Room 209 – Classroom (20)
END:VEVENT
BEGIN:VEVENT
DTSTART;TZID=America/New_York:20240804T091500
DTEND;TZID=America/New_York:20240804T101500
DTSTAMP:20260424T041805
CREATED:20240607T134728Z
LAST-MODIFIED:20240803T181745Z
UID:10000191-1722762900-1722766500@crossroadsetown.com
SUMMARY:Adult Starting Point Classes
DESCRIPTION:Are you interested in becoming a member of Crossroads or just learning about who we are? The Starting Point Class is a 6-week class\, which begins Sunday\, July 14th with a light brunch.  Led by Bro. Rob and Bro. Randy\, we will cover what we believe\, how we are governed\, how you can plug in\, and much\, much more.  Sign up today: Adult Starting Point
URL:https://crossroadsetown.com/event/adult-starting-point-classes-4/
LOCATION:Crossroads Baptist Church-2-Room 209 – Classroom (20)
END:VEVENT
BEGIN:VEVENT
DTSTART;VALUE=DATE:20240729
DTEND;VALUE=DATE:20240802
DTSTAMP:20260424T041805
CREATED:20240305T083342Z
LAST-MODIFIED:20240801T181644Z
UID:10000183-1722211200-1722556799@crossroadsetown.com
SUMMARY:Kids' Camp
DESCRIPTION:
URL:https://crossroadsetown.com/event/kids-camp-2/
END:VEVENT
BEGIN:VEVENT
DTSTART;TZID=America/New_York:20240728T091500
DTEND;TZID=America/New_York:20240728T101500
DTSTAMP:20260424T041805
CREATED:20240607T134728Z
LAST-MODIFIED:20240727T173240Z
UID:10000190-1722158100-1722161700@crossroadsetown.com
SUMMARY:Adult Starting Point Classes
DESCRIPTION:Are you interested in becoming a member of Crossroads or just learning about who we are? The Starting Point Class is a 6-week class\, which begins Sunday\, July 14th with a light brunch.  Led by Bro. Rob and Bro. Randy\, we will cover what we believe\, how we are governed\, how you can plug in\, and much\, much more.  Sign up today: Adult Starting Point
URL:https://crossroadsetown.com/event/adult-starting-point-classes-3/
LOCATION:Crossroads Baptist Church-2-Room 209 – Classroom (20)
END:VEVENT
BEGIN:VEVENT
DTSTART;VALUE=DATE:20240728
DTEND;VALUE=DATE:20240729
DTSTAMP:20260424T041805
CREATED:20240305T083342Z
LAST-MODIFIED:20240728T174840Z
UID:10000184-1722124800-1722211199@crossroadsetown.com
SUMMARY:Student Float
DESCRIPTION:
URL:https://crossroadsetown.com/event/student-float/
END:VEVENT
BEGIN:VEVENT
DTSTART;TZID=America/New_York:20240721T091500
DTEND;TZID=America/New_York:20240721T101500
DTSTAMP:20260424T041805
CREATED:20240607T134727Z
LAST-MODIFIED:20240720T171714Z
UID:10000189-1721553300-1721556900@crossroadsetown.com
SUMMARY:Adult Starting Point Classes
DESCRIPTION:Are you interested in becoming a member of Crossroads or just learning about who we are? The Starting Point Class is a 6-week class\, which begins Sunday\, July 14th with a light brunch.  Led by Bro. Rob and Bro. Randy\, we will cover what we believe\, how we are governed\, how you can plug in\, and much\, much more.  Sign up today: Adult Starting Point
URL:https://crossroadsetown.com/event/adult-starting-point-classes-2/
LOCATION:Crossroads Baptist Church-2-Room 209 – Classroom (20)
END:VEVENT
BEGIN:VEVENT
DTSTART;TZID=America/New_York:20240721T091500
DTEND;TZID=America/New_York:20240721T101500
DTSTAMP:20260424T041805
CREATED:20240305T083341Z
LAST-MODIFIED:20240720T171714Z
UID:10000182-1721553300-1721556900@crossroadsetown.com
SUMMARY:Kids' Starting Point
DESCRIPTION:Kids Starting Point is designed to help kids understand church membership at Crossroads.For kids under 12.  Sign up here: https://onrealm.org/crossroadsetown/PublicRegistrations/Event?linkString=MDJmOTdlNDctMWU2YS00NjBiLTk3NTktYjE0MDAxMDM0NmQ0
URL:https://crossroadsetown.com/event/kids-starting-point-7/
LOCATION:Crossroads Baptist Church-2-Room 202 – Family/Missions Pastor’s Office (20)
END:VEVENT
BEGIN:VEVENT
DTSTART;TZID=America/New_York:20240720T000000
DTEND;TZID=America/New_York:20240721T000000
DTSTAMP:20260424T041805
CREATED:20240701T170116Z
LAST-MODIFIED:20240720T171714Z
UID:10000194-1721433600-1721520000@crossroadsetown.com
SUMMARY:Whitsell/Horn Shower
DESCRIPTION:
URL:https://crossroadsetown.com/event/whitsell-horn-shower/
LOCATION:Crossroads Baptist Church-1-Room 119 – Fellowship – Kitchen (30)\, Crossroads Baptist Church-1-Room 119 – Fellowship Area (150)
END:VEVENT
BEGIN:VEVENT
DTSTART;TZID=America/New_York:20240718T190000
DTEND;TZID=America/New_York:20240718T210000
DTSTAMP:20260424T041805
CREATED:20240305T083341Z
LAST-MODIFIED:20240718T171613Z
UID:10000180-1721329200-1721336400@crossroadsetown.com
SUMMARY:Family Night @ the Water Park
DESCRIPTION:
URL:https://crossroadsetown.com/event/family-night-the-water-park-2/
END:VEVENT
BEGIN:VEVENT
DTSTART;TZID=America/New_York:20240716T173000
DTEND;TZID=America/New_York:20240716T193000
DTSTAMP:20260424T041805
CREATED:20240607T134727Z
LAST-MODIFIED:20240716T171734Z
UID:10000188-1721151000-1721158200@crossroadsetown.com
SUMMARY:Student Pool Party
DESCRIPTION:For student in grades 7-12
URL:https://crossroadsetown.com/event/student-pool-party/
END:VEVENT
BEGIN:VEVENT
DTSTART;TZID=America/New_York:20240716T090000
DTEND;TZID=America/New_York:20240716T170000
DTSTAMP:20260424T041805
CREATED:20240607T134727Z
LAST-MODIFIED:20240716T171734Z
UID:10000187-1721120400-1721149200@crossroadsetown.com
SUMMARY:Camp Ruckus
DESCRIPTION:Join us for our first ever Camp RUCKUS! We want to invite your 1st-2nd grader to join us for an awesome day of getting in the Word\, worshiping\, and creating some ruckus! https://onrealm.org/crossroadsetown/PublicRegistrations/Event?linkString=MDk0MDQ1MzQtNTQwOC00MTk1LWE3YTgtYjE4NDAxNDNiMWFl
URL:https://crossroadsetown.com/event/camp-ruckus/
LOCATION:Crossroads Baptist Church-1-Room 119 – Fellowship – Kitchen (30)\, Crossroads Baptist Church-1-Room 119 – Fellowship Area (150)
END:VEVENT
BEGIN:VEVENT
DTSTART;TZID=America/New_York:20240714T091500
DTEND;TZID=America/New_York:20240714T101500
DTSTAMP:20260424T041805
CREATED:20240607T134727Z
LAST-MODIFIED:20240713T171755Z
UID:10000186-1720948500-1720952100@crossroadsetown.com
SUMMARY:Adult Starting Point Classes
DESCRIPTION:Are you interested in becoming a member of Crossroads or just learning about who we are? The Starting Point Class is a 6-week class\, which begins Sunday\, July 14th with a light brunch.  Led by Bro. Rob and Bro. Randy\, we will cover what we believe\, how we are governed\, how you can plug in\, and much\, much more.  Sign up today: Adult Starting Point
URL:https://crossroadsetown.com/event/adult-starting-point-classes/
LOCATION:Crossroads Baptist Church-2-Room 209 – Classroom (20)
END:VEVENT
BEGIN:VEVENT
DTSTART;TZID=America/New_York:20240714T091500
DTEND;TZID=America/New_York:20240714T101500
DTSTAMP:20260424T041805
CREATED:20240305T083341Z
LAST-MODIFIED:20240713T171755Z
UID:10000181-1720948500-1720952100@crossroadsetown.com
SUMMARY:Kids' Starting Point
DESCRIPTION:Kids Starting Point is designed to help kids understand church membership at Crossroads.For kids under 12.  Sign up here: https://onrealm.org/crossroadsetown/PublicRegistrations/Event?linkString=MDJmOTdlNDctMWU2YS00NjBiLTk3NTktYjE0MDAxMDM0NmQ0
URL:https://crossroadsetown.com/event/kids-starting-point-6/
LOCATION:Crossroads Baptist Church-2-Room 202 – Family/Missions Pastor’s Office (20)
END:VEVENT
BEGIN:VEVENT
DTSTART;TZID=America/New_York:20240707T103000
DTEND;TZID=America/New_York:20240707T120000
DTSTAMP:20260424T041805
CREATED:20240607T134727Z
LAST-MODIFIED:20240706T171554Z
UID:10000185-1720348200-1720353600@crossroadsetown.com
SUMMARY:Communion
DESCRIPTION:
URL:https://crossroadsetown.com/event/communion-11/
END:VEVENT
BEGIN:VEVENT
DTSTART;TZID=America/New_York:20240707T091500
DTEND;TZID=America/New_York:20240707T101500
DTSTAMP:20260424T041805
CREATED:20240305T083341Z
LAST-MODIFIED:20240706T171554Z
UID:10000178-1720343700-1720347300@crossroadsetown.com
SUMMARY:Kids' Starting Point
DESCRIPTION:Kids Starting Point is designed to help kids understand church membership at Crossroads.For kids under 12.  Sign up here: https://onrealm.org/crossroadsetown/PublicRegistrations/Event?linkString=MDJmOTdlNDctMWU2YS00NjBiLTk3NTktYjE0MDAxMDM0NmQ0
URL:https://crossroadsetown.com/event/kids-starting-point-5/
LOCATION:Crossroads Baptist Church-2-Room 202 – Family/Missions Pastor’s Office (20)
END:VEVENT
BEGIN:VEVENT
DTSTART;VALUE=DATE:20240706
DTEND;VALUE=DATE:20240712
DTSTAMP:20260424T041805
CREATED:20240305T083341Z
LAST-MODIFIED:20240711T171632Z
UID:10000179-1720224000-1720742399@crossroadsetown.com
SUMMARY:Student Camp
DESCRIPTION:It is time to sign up for camp! This year\, our students who have finished 7th-12th grade are going to camp on July 5-10. The total cost is $364 and a deposit of $75 is due by May 1. Contact Patrick at patrick@crossroadsetown.com for more information about scholarships. Please make sure to fill out the 2024 release form and/or the medication administration consent form. Stop by the Member Center if you need a paper copy of either form or the camp brochure.Sign up here:  https://onrealm.org/crossroadsetown/PublicRegistrations/Event?linkString=ODY2YzNmODAtMDljYi00OTRkLWE0OGUtYjE3MTAxNDE2Mzk1
URL:https://crossroadsetown.com/event/student-camp-2/
LOCATION:Orange Beach\, AL\, USA
END:VEVENT
BEGIN:VEVENT
DTSTART;TZID=America/New_York:20240630T091500
DTEND;TZID=America/New_York:20240630T101500
DTSTAMP:20260424T041805
CREATED:20240305T083341Z
LAST-MODIFIED:20240629T170114Z
UID:10000177-1719738900-1719742500@crossroadsetown.com
SUMMARY:Kids' Starting Point
DESCRIPTION:Kids Starting Point is designed to help kids understand church membership at Crossroads.For kids under 12.  Sign up here: https://onrealm.org/crossroadsetown/PublicRegistrations/Event?linkString=MDJmOTdlNDctMWU2YS00NjBiLTk3NTktYjE0MDAxMDM0NmQ0
URL:https://crossroadsetown.com/event/kids-starting-point-4/
LOCATION:Crossroads Baptist Church-2-Room 202 – Family/Missions Pastor’s Office (20)
END:VEVENT
BEGIN:VEVENT
DTSTART;TZID=America/New_York:20240627T100000
DTEND;TZID=America/New_York:20240627T130000
DTSTAMP:20260424T041805
CREATED:20240305T083341Z
LAST-MODIFIED:20240626T170056Z
UID:10000176-1719482400-1719493200@crossroadsetown.com
SUMMARY:Giggles Camp
DESCRIPTION:Giggles camp is a day camp for our littlest crossroaders. We invite your 3 – 5 year olds for 3 days of games\, music\, and diving into the word.Sign up here:  https://onrealm.org/crossroadsetown/PublicRegistrations/Event?linkString=M2E4ZjA1YjUtNTMwYS00YjI4LThlNmQtYjE0MDAxMDRmNWUw
URL:https://crossroadsetown.com/event/giggles-camp-8/
END:VEVENT
BEGIN:VEVENT
DTSTART;TZID=America/New_York:20240626T100000
DTEND;TZID=America/New_York:20240626T130000
DTSTAMP:20260424T041805
CREATED:20240305T083341Z
LAST-MODIFIED:20240625T170206Z
UID:10000175-1719396000-1719406800@crossroadsetown.com
SUMMARY:Giggles Camp
DESCRIPTION:Giggles camp is a day camp for our littlest crossroaders. We invite your 3 – 5 year olds for 3 days of games\, music\, and diving into the word.Sign up here:  https://onrealm.org/crossroadsetown/PublicRegistrations/Event?linkString=M2E4ZjA1YjUtNTMwYS00YjI4LThlNmQtYjE0MDAxMDRmNWUw
URL:https://crossroadsetown.com/event/giggles-camp-7/
END:VEVENT
END:VCALENDAR