BEGIN:VCALENDAR
VERSION:2.0
PRODID:-//Crossroads Baptist Church of Elizabethtown - ECPv6.15.16.1//NONSGML v1.0//EN
CALSCALE:GREGORIAN
METHOD:PUBLISH
X-WR-CALNAME:Crossroads Baptist Church of Elizabethtown
X-ORIGINAL-URL:https://crossroadsetown.com
X-WR-CALDESC:Events for Crossroads Baptist Church of Elizabethtown
REFRESH-INTERVAL;VALUE=DURATION:PT1H
X-Robots-Tag:noindex
X-PUBLISHED-TTL:PT1H
BEGIN:VTIMEZONE
TZID:America/New_York
BEGIN:DAYLIGHT
TZOFFSETFROM:-0500
TZOFFSETTO:-0400
TZNAME:EDT
DTSTART:20240310T070000
END:DAYLIGHT
BEGIN:STANDARD
TZOFFSETFROM:-0400
TZOFFSETTO:-0500
TZNAME:EST
DTSTART:20241103T060000
END:STANDARD
BEGIN:DAYLIGHT
TZOFFSETFROM:-0500
TZOFFSETTO:-0400
TZNAME:EDT
DTSTART:20250309T070000
END:DAYLIGHT
BEGIN:STANDARD
TZOFFSETFROM:-0400
TZOFFSETTO:-0500
TZNAME:EST
DTSTART:20251102T060000
END:STANDARD
BEGIN:DAYLIGHT
TZOFFSETFROM:-0500
TZOFFSETTO:-0400
TZNAME:EDT
DTSTART:20260308T070000
END:DAYLIGHT
BEGIN:STANDARD
TZOFFSETFROM:-0400
TZOFFSETTO:-0500
TZNAME:EST
DTSTART:20261101T060000
END:STANDARD
END:VTIMEZONE
BEGIN:VEVENT
DTSTART;TZID=America/New_York:20250730T130000
DTEND;TZID=America/New_York:20250730T143000
DTSTAMP:20260423T133050
CREATED:20250531T034624Z
LAST-MODIFIED:20250730T070057Z
UID:10000307-1753880400-1753885800@crossroadsetown.com
SUMMARY:Student Theology Wednesdays
DESCRIPTION:
URL:https://crossroadsetown.com/event/student-theology-wednesdays-9/
END:VEVENT
BEGIN:VEVENT
DTSTART;TZID=America/New_York:20250723T130000
DTEND;TZID=America/New_York:20250723T143000
DTSTAMP:20260423T133050
CREATED:20250531T034623Z
LAST-MODIFIED:20250723T061849Z
UID:10000306-1753275600-1753281000@crossroadsetown.com
SUMMARY:Student Theology Wednesdays
DESCRIPTION:
URL:https://crossroadsetown.com/event/student-theology-wednesdays-8/
END:VEVENT
BEGIN:VEVENT
DTSTART;TZID=America/New_York:20250722T130000
DTEND;TZID=America/New_York:20250722T170000
DTSTAMP:20260423T133050
CREATED:20250625T050053Z
LAST-MODIFIED:20250722T061725Z
UID:10000310-1753189200-1753203600@crossroadsetown.com
SUMMARY:Camp Ruckus
DESCRIPTION:
URL:https://crossroadsetown.com/event/camp-ruckus-3/
END:VEVENT
BEGIN:VEVENT
DTSTART;TZID=America/New_York:20250721T130000
DTEND;TZID=America/New_York:20250721T170000
DTSTAMP:20260423T133050
CREATED:20250625T050053Z
LAST-MODIFIED:20250721T060322Z
UID:10000309-1753102800-1753117200@crossroadsetown.com
SUMMARY:Camp Ruckus
DESCRIPTION:
URL:https://crossroadsetown.com/event/camp-ruckus-2/
END:VEVENT
BEGIN:VEVENT
DTSTART;TZID=America/New_York:20250716T130000
DTEND;TZID=America/New_York:20250716T143000
DTSTAMP:20260423T133050
CREATED:20250531T034623Z
LAST-MODIFIED:20250716T054630Z
UID:10000305-1752670800-1752676200@crossroadsetown.com
SUMMARY:Student Theology Wednesdays
DESCRIPTION:
URL:https://crossroadsetown.com/event/student-theology-wednesdays-7/
END:VEVENT
BEGIN:VEVENT
DTSTART;VALUE=DATE:20250716
DTEND;VALUE=DATE:20250720
DTSTAMP:20260423T133050
CREATED:20241231T231609Z
LAST-MODIFIED:20250719T054629Z
UID:10000275-1752624000-1752969599@crossroadsetown.com
SUMMARY:Kid's Camp
DESCRIPTION:Watch for more details. \nWho:  students who have completed 3rd – 6th grade \nHow much: $75 per student \nWhen: TIMES ARE ESTIMATES we will have more details the closer we get. \nSpots will be limited.  Please register by July 8. \nAll participants will need to have a 2025 Permission/Retreat form on file.
URL:https://crossroadsetown.com/event/kids-camp-3/
END:VEVENT
BEGIN:VEVENT
DTSTART;TZID=America/New_York:20250710T090000
DTEND;TZID=America/New_York:20250710T120000
DTSTAMP:20260423T133050
CREATED:20250626T050118Z
LAST-MODIFIED:20250710T054554Z
UID:10000312-1752138000-1752148800@crossroadsetown.com
SUMMARY:Giggles Camp
DESCRIPTION:
URL:https://crossroadsetown.com/event/giggles-camp-10/
END:VEVENT
BEGIN:VEVENT
DTSTART;TZID=America/New_York:20250709T130000
DTEND;TZID=America/New_York:20250709T143000
DTSTAMP:20260423T133050
CREATED:20250531T034623Z
LAST-MODIFIED:20250709T054726Z
UID:10000304-1752066000-1752071400@crossroadsetown.com
SUMMARY:Student Theology Wednesdays
DESCRIPTION:
URL:https://crossroadsetown.com/event/student-theology-wednesdays-6/
END:VEVENT
BEGIN:VEVENT
DTSTART;TZID=America/New_York:20250709T090000
DTEND;TZID=America/New_York:20250709T120000
DTSTAMP:20260423T133050
CREATED:20250626T050117Z
LAST-MODIFIED:20250709T054726Z
UID:10000311-1752051600-1752062400@crossroadsetown.com
SUMMARY:Giggles Camp
DESCRIPTION:
URL:https://crossroadsetown.com/event/giggles-camp-9/
END:VEVENT
BEGIN:VEVENT
DTSTART;VALUE=DATE:20250706
DTEND;VALUE=DATE:20250713
DTSTAMP:20260423T133050
CREATED:20241231T231609Z
LAST-MODIFIED:20250712T054640Z
UID:10000274-1751760000-1752364799@crossroadsetown.com
SUMMARY:Student Camp
DESCRIPTION:Watch for more details. \nWho: Students who have completed 7th – 12th grades. \nWhen:  TIMES ARE ESTIMATES – We will know more the closer we get. \nHow much: $325. \nSpots will be limited.  Please register before July 1. \nAll participants will need to have a 2025 Permission/Retreat form on file.
URL:https://crossroadsetown.com/event/student-camp-3/
END:VEVENT
BEGIN:VEVENT
DTSTART;TZID=America/New_York:20250702T130000
DTEND;TZID=America/New_York:20250702T143000
DTSTAMP:20260423T133050
CREATED:20250531T034623Z
LAST-MODIFIED:20250702T053121Z
UID:10000303-1751461200-1751466600@crossroadsetown.com
SUMMARY:Student Theology Wednesdays
DESCRIPTION:
URL:https://crossroadsetown.com/event/student-theology-wednesdays-5/
END:VEVENT
BEGIN:VEVENT
DTSTART;TZID=America/New_York:20250627T170000
DTEND;TZID=America/New_York:20250627T200000
DTSTAMP:20260423T133050
CREATED:20250621T044737Z
LAST-MODIFIED:20250627T050228Z
UID:10000308-1751043600-1751054400@crossroadsetown.com
SUMMARY:Henderson Rehersal
DESCRIPTION:
URL:https://crossroadsetown.com/event/henderson-rehersal/
END:VEVENT
BEGIN:VEVENT
DTSTART;TZID=America/New_York:20250627T170000
DTEND;TZID=America/New_York:20250627T190000
DTSTAMP:20260423T133050
CREATED:20250506T034624Z
LAST-MODIFIED:20250627T050228Z
UID:10000295-1751043600-1751050800@crossroadsetown.com
SUMMARY:Ladies - Back to School@Hope Acad
DESCRIPTION:
URL:https://crossroadsetown.com/event/ladies-back-to-schoolhope-acad/
END:VEVENT
BEGIN:VEVENT
DTSTART;TZID=America/New_York:20250625T130000
DTEND;TZID=America/New_York:20250625T143000
DTSTAMP:20260423T133050
CREATED:20250531T034620Z
LAST-MODIFIED:20250625T050055Z
UID:10000302-1750856400-1750861800@crossroadsetown.com
SUMMARY:Student Theology Wednesdays
DESCRIPTION:
URL:https://crossroadsetown.com/event/student-theology-wednesdays-4/
END:VEVENT
BEGIN:VEVENT
DTSTART;TZID=America/New_York:20250618T130000
DTEND;TZID=America/New_York:20250618T143000
DTSTAMP:20260423T133050
CREATED:20250531T034620Z
LAST-MODIFIED:20250618T044735Z
UID:10000301-1750251600-1750257000@crossroadsetown.com
SUMMARY:Student Theology Wednesdays
DESCRIPTION:
URL:https://crossroadsetown.com/event/student-theology-wednesdays-3/
END:VEVENT
BEGIN:VEVENT
DTSTART;TZID=America/New_York:20250615T190000
DTEND;TZID=America/New_York:20250615T210000
DTSTAMP:20260423T133050
CREATED:20250308T014612Z
LAST-MODIFIED:20250615T043212Z
UID:10000283-1750014000-1750021200@crossroadsetown.com
SUMMARY:Family Night At The Waterpark
DESCRIPTION:
URL:https://crossroadsetown.com/event/family-night-at-the-waterpark/
END:VEVENT
BEGIN:VEVENT
DTSTART;TZID=America/New_York:20250612T160000
DTEND;TZID=America/New_York:20250612T173000
DTSTAMP:20260423T133050
CREATED:20250531T034620Z
LAST-MODIFIED:20250612T041735Z
UID:10000300-1749744000-1749749400@crossroadsetown.com
SUMMARY:Student Starting Point
DESCRIPTION:Student Starting Point is designed to help students understand church membership at Crossroads. The three sessions will take place June 10-12\, from 4-5:30PM at Dewster’s Ice Cream in Elizabethtown. Bring money for ice cream! Sign up to let us know you are coming: Student Starting Point
URL:https://crossroadsetown.com/event/student-starting-point-7/
END:VEVENT
BEGIN:VEVENT
DTSTART;TZID=America/New_York:20250611T160000
DTEND;TZID=America/New_York:20250611T173000
DTSTAMP:20260423T133050
CREATED:20250531T034620Z
LAST-MODIFIED:20250611T041600Z
UID:10000299-1749657600-1749663000@crossroadsetown.com
SUMMARY:Student Starting Point
DESCRIPTION:Student Starting Point is designed to help students understand church membership at Crossroads. The three sessions will take place June 10-12\, from 4-5:30PM at Dewster’s Ice Cream in Elizabethtown. Bring money for ice cream! Sign up to let us know you are coming: Student Starting Point
URL:https://crossroadsetown.com/event/student-starting-point-6/
END:VEVENT
BEGIN:VEVENT
DTSTART;TZID=America/New_York:20250611T130000
DTEND;TZID=America/New_York:20250611T143000
DTSTAMP:20260423T133050
CREATED:20250531T034620Z
LAST-MODIFIED:20250611T041600Z
UID:10000298-1749646800-1749652200@crossroadsetown.com
SUMMARY:Student Theology Wednesdays
DESCRIPTION:
URL:https://crossroadsetown.com/event/student-theology-wednesdays-2/
END:VEVENT
BEGIN:VEVENT
DTSTART;TZID=America/New_York:20250610T160000
DTEND;TZID=America/New_York:20250610T173000
DTSTAMP:20260423T133050
CREATED:20250531T034620Z
LAST-MODIFIED:20250610T041630Z
UID:10000297-1749571200-1749576600@crossroadsetown.com
SUMMARY:Student Starting Point
DESCRIPTION:Student Starting Point is designed to help students understand church membership at Crossroads. The three sessions will take place June 10-12\, from 4-5:30PM at Dewster’s Ice Cream in Elizabethtown. Bring money for ice cream! Sign up to let us know you are coming: Student Starting Point
URL:https://crossroadsetown.com/event/student-starting-point-5/
END:VEVENT
BEGIN:VEVENT
DTSTART;VALUE=DATE:20250608
DTEND;VALUE=DATE:20250613
DTSTAMP:20260423T133050
CREATED:20241029T214647Z
LAST-MODIFIED:20250612T041735Z
UID:10000236-1749340800-1749772799@crossroadsetown.com
SUMMARY:VBS
DESCRIPTION:
URL:https://crossroadsetown.com/event/vbs-7/
END:VEVENT
BEGIN:VEVENT
DTSTART;TZID=America/New_York:20250604T130000
DTEND;TZID=America/New_York:20250604T143000
DTSTAMP:20260423T133050
CREATED:20250531T034619Z
LAST-MODIFIED:20250604T040153Z
UID:10000296-1749042000-1749047400@crossroadsetown.com
SUMMARY:Student Theology Wednesdays
DESCRIPTION:
URL:https://crossroadsetown.com/event/student-theology-wednesdays/
END:VEVENT
BEGIN:VEVENT
DTSTART;VALUE=DATE:20250518
DTEND;VALUE=DATE:20250519
DTSTAMP:20260423T133050
CREATED:20250506T034624Z
LAST-MODIFIED:20250518T034604Z
UID:10000294-1747526400-1747612799@crossroadsetown.com
SUMMARY:Graduate Recognition Sunday
DESCRIPTION:
URL:https://crossroadsetown.com/event/graduate-recognition-sunday/
END:VEVENT
BEGIN:VEVENT
DTSTART;VALUE=DATE:20250511
DTEND;VALUE=DATE:20250512
DTSTAMP:20260423T133050
CREATED:20250415T031620Z
LAST-MODIFIED:20250511T034706Z
UID:10000293-1746921600-1747007999@crossroadsetown.com
SUMMARY:Mother's Day
DESCRIPTION:
URL:https://crossroadsetown.com/event/mothers-day/
END:VEVENT
BEGIN:VEVENT
DTSTART;VALUE=DATE:20250511
DTEND;VALUE=DATE:20250512
DTSTAMP:20260423T133050
CREATED:20250415T031619Z
LAST-MODIFIED:20250511T034706Z
UID:10000292-1746921600-1747007999@crossroadsetown.com
SUMMARY:Parent/Child Dedication
DESCRIPTION:
URL:https://crossroadsetown.com/event/parent-child-dedication-4/
END:VEVENT
BEGIN:VEVENT
DTSTART;TZID=America/New_York:20250507T183000
DTEND;TZID=America/New_York:20250507T194500
DTSTAMP:20260423T133050
CREATED:20250415T031616Z
LAST-MODIFIED:20250507T034600Z
UID:10000291-1746642600-1746647100@crossroadsetown.com
SUMMARY:Family Meeting
DESCRIPTION:
URL:https://crossroadsetown.com/event/family-meeting-5/
END:VEVENT
BEGIN:VEVENT
DTSTART;TZID=America/New_York:20250507T183000
DTEND;TZID=America/New_York:20250507T194500
DTSTAMP:20260423T133050
CREATED:20241206T223109Z
LAST-MODIFIED:20250507T034600Z
UID:10000271-1746642600-1746647100@crossroadsetown.com
SUMMARY:Ladies Bible Study
DESCRIPTION:Join with Google Meet: https://meet.google.com/jej-djuu-xbx\nOr dial: (US) +1 813-563-5340 PIN: 874312362#\nMore phone numbers: https://tel.meet/jej-djuu-xbx?pin=7986903028923&hs=7\nLearn more about Meet at: https://support.google.com/a/users/answer/9282720
URL:https://crossroadsetown.com/event/ladies-bible-study-18/
END:VEVENT
BEGIN:VEVENT
DTSTART;TZID=America/New_York:20250507T173000
DTEND;TZID=America/New_York:20250507T183000
DTSTAMP:20260423T133050
CREATED:20250327T024633Z
LAST-MODIFIED:20250507T034600Z
UID:10000290-1746639000-1746642600@crossroadsetown.com
SUMMARY:Parent/Child Dedication Meeting
DESCRIPTION:
URL:https://crossroadsetown.com/event/parent-child-dedication-meeting/
END:VEVENT
BEGIN:VEVENT
DTSTART;TZID=America/New_York:20250430T183000
DTEND;TZID=America/New_York:20250430T194500
DTSTAMP:20260423T133050
CREATED:20241206T223109Z
LAST-MODIFIED:20250430T034813Z
UID:10000270-1746037800-1746042300@crossroadsetown.com
SUMMARY:Ladies Bible Study
DESCRIPTION:Join with Google Meet: https://meet.google.com/jej-djuu-xbx\nOr dial: (US) +1 813-563-5340 PIN: 874312362#\nMore phone numbers: https://tel.meet/jej-djuu-xbx?pin=7986903028923&hs=7\nLearn more about Meet at: https://support.google.com/a/users/answer/9282720
URL:https://crossroadsetown.com/event/ladies-bible-study-17/
END:VEVENT
BEGIN:VEVENT
DTSTART;TZID=America/New_York:20250423T183000
DTEND;TZID=America/New_York:20250423T194500
DTSTAMP:20260423T133050
CREATED:20241206T223109Z
LAST-MODIFIED:20250423T033235Z
UID:10000269-1745433000-1745437500@crossroadsetown.com
SUMMARY:Ladies Bible Study
DESCRIPTION:Join with Google Meet: https://meet.google.com/jej-djuu-xbx\nOr dial: (US) +1 813-563-5340 PIN: 874312362#\nMore phone numbers: https://tel.meet/jej-djuu-xbx?pin=7986903028923&hs=7\nLearn more about Meet at: https://support.google.com/a/users/answer/9282720
URL:https://crossroadsetown.com/event/ladies-bible-study-16/
END:VEVENT
END:VCALENDAR